BEGIN:VCALENDAR
VERSION:2.0
PRODID:-//Route 87 Teen Community Center - ECPv6.15.20//NONSGML v1.0//EN
CALSCALE:GREGORIAN
METHOD:PUBLISH
X-WR-CALNAME:Route 87 Teen Community Center
X-ORIGINAL-URL:https://paysonteencenter.com
X-WR-CALDESC:Events for Route 87 Teen Community Center
REFRESH-INTERVAL;VALUE=DURATION:PT1H
X-Robots-Tag:noindex
X-PUBLISHED-TTL:PT1H
BEGIN:VTIMEZONE
TZID:America/Denver
BEGIN:DAYLIGHT
TZOFFSETFROM:-0700
TZOFFSETTO:-0600
TZNAME:MDT
DTSTART:20250309T090000
END:DAYLIGHT
BEGIN:STANDARD
TZOFFSETFROM:-0600
TZOFFSETTO:-0700
TZNAME:MST
DTSTART:20251102T080000
END:STANDARD
BEGIN:DAYLIGHT
TZOFFSETFROM:-0700
TZOFFSETTO:-0600
TZNAME:MDT
DTSTART:20260308T090000
END:DAYLIGHT
BEGIN:STANDARD
TZOFFSETFROM:-0600
TZOFFSETTO:-0700
TZNAME:MST
DTSTART:20261101T080000
END:STANDARD
BEGIN:DAYLIGHT
TZOFFSETFROM:-0700
TZOFFSETTO:-0600
TZNAME:MDT
DTSTART:20270314T090000
END:DAYLIGHT
BEGIN:STANDARD
TZOFFSETFROM:-0600
TZOFFSETTO:-0700
TZNAME:MST
DTSTART:20271107T080000
END:STANDARD
END:VTIMEZONE
BEGIN:VEVENT
DTSTART;TZID=America/Denver:20260530T130000
DTEND;TZID=America/Denver:20260530T170000
DTSTAMP:20260421T161516
CREATED:20260325T184829Z
LAST-MODIFIED:20260325T184829Z
UID:10001643-1780146000-1780160400@paysonteencenter.com
SUMMARY:Open to Teens 1-5 pm
DESCRIPTION:
URL:https://paysonteencenter.com/event/open-to-teens-1-5-pm/2026-05-30/
END:VEVENT
BEGIN:VEVENT
DTSTART;TZID=America/Denver:20260529T150000
DTEND;TZID=America/Denver:20260529T190000
DTSTAMP:20260421T161516
CREATED:20260325T163102Z
LAST-MODIFIED:20260325T163102Z
UID:10001603-1780066800-1780081200@paysonteencenter.com
SUMMARY:Open to Teens 3-7 pm
DESCRIPTION:
URL:https://paysonteencenter.com/event/open-to-teens-3-7-pm/2026-05-29/
END:VEVENT
BEGIN:VEVENT
DTSTART;TZID=America/Denver:20260528T150000
DTEND;TZID=America/Denver:20260528T190000
DTSTAMP:20260421T161516
CREATED:20260325T161342Z
LAST-MODIFIED:20260325T162501Z
UID:10001563-1779980400-1779994800@paysonteencenter.com
SUMMARY:Open to Teens 3-7 pm
DESCRIPTION:
URL:https://paysonteencenter.com/event/open-3-7-pm/2026-05-28/
END:VEVENT
BEGIN:VEVENT
DTSTART;TZID=America/Denver:20260523T130000
DTEND;TZID=America/Denver:20260523T170000
DTSTAMP:20260421T161516
CREATED:20260325T184829Z
LAST-MODIFIED:20260325T184829Z
UID:10001642-1779541200-1779555600@paysonteencenter.com
SUMMARY:Open to Teens 1-5 pm
DESCRIPTION:
URL:https://paysonteencenter.com/event/open-to-teens-1-5-pm/2026-05-23/
END:VEVENT
BEGIN:VEVENT
DTSTART;TZID=America/Denver:20260522T150000
DTEND;TZID=America/Denver:20260522T190000
DTSTAMP:20260421T161516
CREATED:20260325T163102Z
LAST-MODIFIED:20260325T163102Z
UID:10001602-1779462000-1779476400@paysonteencenter.com
SUMMARY:Open to Teens 3-7 pm
DESCRIPTION:
URL:https://paysonteencenter.com/event/open-to-teens-3-7-pm/2026-05-22/
END:VEVENT
BEGIN:VEVENT
DTSTART;TZID=America/Denver:20260521T150000
DTEND;TZID=America/Denver:20260521T190000
DTSTAMP:20260421T161516
CREATED:20260325T161342Z
LAST-MODIFIED:20260325T162501Z
UID:10001562-1779375600-1779390000@paysonteencenter.com
SUMMARY:Open to Teens 3-7 pm
DESCRIPTION:
URL:https://paysonteencenter.com/event/open-3-7-pm/2026-05-21/
END:VEVENT
BEGIN:VEVENT
DTSTART;TZID=America/Denver:20260516T130000
DTEND;TZID=America/Denver:20260516T170000
DTSTAMP:20260421T161516
CREATED:20260325T184829Z
LAST-MODIFIED:20260325T184829Z
UID:10001641-1778936400-1778950800@paysonteencenter.com
SUMMARY:Open to Teens 1-5 pm
DESCRIPTION:
URL:https://paysonteencenter.com/event/open-to-teens-1-5-pm/2026-05-16/
END:VEVENT
BEGIN:VEVENT
DTSTART;TZID=America/Denver:20260515T150000
DTEND;TZID=America/Denver:20260515T190000
DTSTAMP:20260421T161516
CREATED:20260325T163102Z
LAST-MODIFIED:20260325T163102Z
UID:10001601-1778857200-1778871600@paysonteencenter.com
SUMMARY:Open to Teens 3-7 pm
DESCRIPTION:
URL:https://paysonteencenter.com/event/open-to-teens-3-7-pm/2026-05-15/
END:VEVENT
BEGIN:VEVENT
DTSTART;TZID=America/Denver:20260514T150000
DTEND;TZID=America/Denver:20260514T190000
DTSTAMP:20260421T161516
CREATED:20260325T161342Z
LAST-MODIFIED:20260325T162501Z
UID:10001561-1778770800-1778785200@paysonteencenter.com
SUMMARY:Open to Teens 3-7 pm
DESCRIPTION:
URL:https://paysonteencenter.com/event/open-3-7-pm/2026-05-14/
END:VEVENT
BEGIN:VEVENT
DTSTART;TZID=America/Denver:20260509T130000
DTEND;TZID=America/Denver:20260509T170000
DTSTAMP:20260421T161516
CREATED:20260325T184829Z
LAST-MODIFIED:20260325T184829Z
UID:10001640-1778331600-1778346000@paysonteencenter.com
SUMMARY:Open to Teens 1-5 pm
DESCRIPTION:
URL:https://paysonteencenter.com/event/open-to-teens-1-5-pm/2026-05-09/
END:VEVENT
BEGIN:VEVENT
DTSTART;TZID=America/Denver:20260508T153000
DTEND;TZID=America/Denver:20260508T163000
DTSTAMP:20260421T161516
CREATED:20260416T212019Z
LAST-MODIFIED:20260416T212407Z
UID:10001675-1778254200-1778257800@paysonteencenter.com
SUMMARY:Tie Dye
DESCRIPTION:
URL:https://paysonteencenter.com/event/tie-dye-3/
END:VEVENT
BEGIN:VEVENT
DTSTART;TZID=America/Denver:20260508T150000
DTEND;TZID=America/Denver:20260508T190000
DTSTAMP:20260421T161516
CREATED:20260325T163102Z
LAST-MODIFIED:20260325T163102Z
UID:10001600-1778252400-1778266800@paysonteencenter.com
SUMMARY:Open to Teens 3-7 pm
DESCRIPTION:
URL:https://paysonteencenter.com/event/open-to-teens-3-7-pm/2026-05-08/
END:VEVENT
BEGIN:VEVENT
DTSTART;TZID=America/Denver:20260507T150000
DTEND;TZID=America/Denver:20260507T190000
DTSTAMP:20260421T161516
CREATED:20260325T161342Z
LAST-MODIFIED:20260325T162501Z
UID:10001560-1778166000-1778180400@paysonteencenter.com
SUMMARY:Open to Teens 3-7 pm
DESCRIPTION:
URL:https://paysonteencenter.com/event/open-3-7-pm/2026-05-07/
END:VEVENT
BEGIN:VEVENT
DTSTART;TZID=America/Denver:20260502T130000
DTEND;TZID=America/Denver:20260502T170000
DTSTAMP:20260421T161516
CREATED:20260325T184829Z
LAST-MODIFIED:20260325T184829Z
UID:10001639-1777726800-1777741200@paysonteencenter.com
SUMMARY:Open to Teens 1-5 pm
DESCRIPTION:
URL:https://paysonteencenter.com/event/open-to-teens-1-5-pm/2026-05-02/
END:VEVENT
BEGIN:VEVENT
DTSTART;TZID=America/Denver:20260501T153000
DTEND;TZID=America/Denver:20260501T163000
DTSTAMP:20260421T161516
CREATED:20260416T165512Z
LAST-MODIFIED:20260416T165512Z
UID:10001674-1777649400-1777653000@paysonteencenter.com
SUMMARY:Tie Dye
DESCRIPTION:Come make a tie dye shirt. Bring your own or use one of ours. Teens Only Please. 112 W. Cedar Lane in Payson. Call Jeremy with questions 928.961.5407
URL:https://paysonteencenter.com/event/tie-dye-2/
END:VEVENT
BEGIN:VEVENT
DTSTART;TZID=America/Denver:20260501T150000
DTEND;TZID=America/Denver:20260501T190000
DTSTAMP:20260421T161516
CREATED:20260325T163102Z
LAST-MODIFIED:20260325T163102Z
UID:10001599-1777647600-1777662000@paysonteencenter.com
SUMMARY:Open to Teens 3-7 pm
DESCRIPTION:
URL:https://paysonteencenter.com/event/open-to-teens-3-7-pm/2026-05-01/
END:VEVENT
BEGIN:VEVENT
DTSTART;TZID=America/Denver:20260430T150000
DTEND;TZID=America/Denver:20260430T190000
DTSTAMP:20260421T161516
CREATED:20260325T161342Z
LAST-MODIFIED:20260325T162501Z
UID:10001559-1777561200-1777575600@paysonteencenter.com
SUMMARY:Open to Teens 3-7 pm
DESCRIPTION:
URL:https://paysonteencenter.com/event/open-3-7-pm/2026-04-30/
END:VEVENT
BEGIN:VEVENT
DTSTART;TZID=America/Denver:20260429T150000
DTEND;TZID=America/Denver:20260429T180000
DTSTAMP:20260421T161516
CREATED:20260127T183947Z
LAST-MODIFIED:20260127T184817Z
UID:10000757-1777474800-1777485600@paysonteencenter.com
SUMMARY:Open to Teens
DESCRIPTION:
URL:https://paysonteencenter.com/event/open-to-teens-4/2026-04-29/
END:VEVENT
BEGIN:VEVENT
DTSTART;TZID=America/Denver:20260425T130000
DTEND;TZID=America/Denver:20260425T170000
DTSTAMP:20260421T161516
CREATED:20260325T184829Z
LAST-MODIFIED:20260325T184829Z
UID:10001638-1777122000-1777136400@paysonteencenter.com
SUMMARY:Open to Teens 1-5 pm
DESCRIPTION:
URL:https://paysonteencenter.com/event/open-to-teens-1-5-pm/2026-04-25/
END:VEVENT
BEGIN:VEVENT
DTSTART;TZID=America/Denver:20260424T150000
DTEND;TZID=America/Denver:20260424T190000
DTSTAMP:20260421T161516
CREATED:20260325T163102Z
LAST-MODIFIED:20260325T163102Z
UID:10001598-1777042800-1777057200@paysonteencenter.com
SUMMARY:Open to Teens 3-7 pm
DESCRIPTION:
URL:https://paysonteencenter.com/event/open-to-teens-3-7-pm/2026-04-24/
END:VEVENT
BEGIN:VEVENT
DTSTART;TZID=America/Denver:20260423T150000
DTEND;TZID=America/Denver:20260423T190000
DTSTAMP:20260421T161516
CREATED:20260325T161342Z
LAST-MODIFIED:20260325T162501Z
UID:10001558-1776956400-1776970800@paysonteencenter.com
SUMMARY:Open to Teens 3-7 pm
DESCRIPTION:
URL:https://paysonteencenter.com/event/open-3-7-pm/2026-04-23/
END:VEVENT
BEGIN:VEVENT
DTSTART;TZID=America/Denver:20260422T150000
DTEND;TZID=America/Denver:20260422T180000
DTSTAMP:20260421T161517
CREATED:20260127T183947Z
LAST-MODIFIED:20260127T184817Z
UID:10000756-1776870000-1776880800@paysonteencenter.com
SUMMARY:Open to Teens
DESCRIPTION:
URL:https://paysonteencenter.com/event/open-to-teens-4/2026-04-22/
END:VEVENT
BEGIN:VEVENT
DTSTART;TZID=America/Denver:20260418T130000
DTEND;TZID=America/Denver:20260418T170000
DTSTAMP:20260421T161517
CREATED:20260325T184829Z
LAST-MODIFIED:20260325T184829Z
UID:10001637-1776517200-1776531600@paysonteencenter.com
SUMMARY:Open to Teens 1-5 pm
DESCRIPTION:
URL:https://paysonteencenter.com/event/open-to-teens-1-5-pm/2026-04-18/
END:VEVENT
BEGIN:VEVENT
DTSTART;TZID=America/Denver:20260418T080000
DTEND;TZID=America/Denver:20260418T160000
DTSTAMP:20260421T161517
CREATED:20260127T171216Z
LAST-MODIFIED:20260127T171216Z
UID:10000706-1776499200-1776528000@paysonteencenter.com
SUMMARY:Earth Day Cleanup 8-4 Out in the community
DESCRIPTION:Come find us.
URL:https://paysonteencenter.com/event/earth-day-cleanup-8-4-out-in-the-community/
END:VEVENT
BEGIN:VEVENT
DTSTART;TZID=America/Denver:20260417T150000
DTEND;TZID=America/Denver:20260417T190000
DTSTAMP:20260421T161517
CREATED:20260325T163102Z
LAST-MODIFIED:20260325T163102Z
UID:10001597-1776438000-1776452400@paysonteencenter.com
SUMMARY:Open to Teens 3-7 pm
DESCRIPTION:
URL:https://paysonteencenter.com/event/open-to-teens-3-7-pm/2026-04-17/
END:VEVENT
BEGIN:VEVENT
DTSTART;TZID=America/Denver:20260416T150000
DTEND;TZID=America/Denver:20260416T190000
DTSTAMP:20260421T161517
CREATED:20260325T161342Z
LAST-MODIFIED:20260325T162501Z
UID:10001557-1776351600-1776366000@paysonteencenter.com
SUMMARY:Open to Teens 3-7 pm
DESCRIPTION:
URL:https://paysonteencenter.com/event/open-3-7-pm/2026-04-16/
END:VEVENT
BEGIN:VEVENT
DTSTART;TZID=America/Denver:20260415T150000
DTEND;TZID=America/Denver:20260415T180000
DTSTAMP:20260421T161517
CREATED:20260127T183947Z
LAST-MODIFIED:20260127T184817Z
UID:10000755-1776265200-1776276000@paysonteencenter.com
SUMMARY:Open to Teens
DESCRIPTION:
URL:https://paysonteencenter.com/event/open-to-teens-4/2026-04-15/
END:VEVENT
BEGIN:VEVENT
DTSTART;TZID=America/Denver:20260411T130000
DTEND;TZID=America/Denver:20260411T170000
DTSTAMP:20260421T161517
CREATED:20260325T184829Z
LAST-MODIFIED:20260325T184829Z
UID:10001636-1775912400-1775926800@paysonteencenter.com
SUMMARY:Open to Teens 1-5 pm
DESCRIPTION:
URL:https://paysonteencenter.com/event/open-to-teens-1-5-pm/2026-04-11/
END:VEVENT
BEGIN:VEVENT
DTSTART;TZID=America/Denver:20260410T150000
DTEND;TZID=America/Denver:20260410T190000
DTSTAMP:20260421T161517
CREATED:20260325T163102Z
LAST-MODIFIED:20260325T163102Z
UID:10001596-1775833200-1775847600@paysonteencenter.com
SUMMARY:Open to Teens 3-7 pm
DESCRIPTION:
URL:https://paysonteencenter.com/event/open-to-teens-3-7-pm/2026-04-10/
END:VEVENT
BEGIN:VEVENT
DTSTART;TZID=America/Denver:20260409T163000
DTEND;TZID=America/Denver:20260409T173000
DTSTAMP:20260421T161517
CREATED:20260127T171738Z
LAST-MODIFIED:20260127T171738Z
UID:10000707-1775752200-1775755800@paysonteencenter.com
SUMMARY:Arizona Game and Fish Visiting
DESCRIPTION:
URL:https://paysonteencenter.com/event/arizona-game-and-fish-visiting/
END:VEVENT
END:VCALENDAR