BEGIN:VCALENDAR
VERSION:2.0
PRODID:-//Route 87 Teen Community Center - ECPv6.15.20//NONSGML v1.0//EN
CALSCALE:GREGORIAN
METHOD:PUBLISH
X-ORIGINAL-URL:https://paysonteencenter.com
X-WR-CALDESC:Events for Route 87 Teen Community Center
REFRESH-INTERVAL;VALUE=DURATION:PT1H
X-Robots-Tag:noindex
X-PUBLISHED-TTL:PT1H
BEGIN:VTIMEZONE
TZID:America/Denver
BEGIN:DAYLIGHT
TZOFFSETFROM:-0700
TZOFFSETTO:-0600
TZNAME:MDT
DTSTART:20240310T090000
END:DAYLIGHT
BEGIN:STANDARD
TZOFFSETFROM:-0600
TZOFFSETTO:-0700
TZNAME:MST
DTSTART:20241103T080000
END:STANDARD
BEGIN:DAYLIGHT
TZOFFSETFROM:-0700
TZOFFSETTO:-0600
TZNAME:MDT
DTSTART:20250309T090000
END:DAYLIGHT
BEGIN:STANDARD
TZOFFSETFROM:-0600
TZOFFSETTO:-0700
TZNAME:MST
DTSTART:20251102T080000
END:STANDARD
BEGIN:DAYLIGHT
TZOFFSETFROM:-0700
TZOFFSETTO:-0600
TZNAME:MDT
DTSTART:20260308T090000
END:DAYLIGHT
BEGIN:STANDARD
TZOFFSETFROM:-0600
TZOFFSETTO:-0700
TZNAME:MST
DTSTART:20261101T080000
END:STANDARD
BEGIN:DAYLIGHT
TZOFFSETFROM:-0700
TZOFFSETTO:-0600
TZNAME:MDT
DTSTART:20270314T090000
END:DAYLIGHT
BEGIN:STANDARD
TZOFFSETFROM:-0600
TZOFFSETTO:-0700
TZNAME:MST
DTSTART:20271107T080000
END:STANDARD
END:VTIMEZONE
BEGIN:VEVENT
DTSTART;TZID=America/Denver:20251101T140000
DTEND;TZID=America/Denver:20251101T190000
DTSTAMP:20260421T192419
CREATED:20250829T235646Z
LAST-MODIFIED:20250829T235646Z
UID:10000672-1762005600-1762023600@paysonteencenter.com
SUMMARY:Open to Teens
DESCRIPTION:
URL:https://paysonteencenter.com/event/open-to-teens-3/2025-11-01/
END:VEVENT
BEGIN:VEVENT
DTSTART;TZID=America/Denver:20251105T150000
DTEND;TZID=America/Denver:20251105T180000
DTSTAMP:20260421T192419
CREATED:20250829T233817Z
LAST-MODIFIED:20250829T233817Z
UID:10000631-1762354800-1762365600@paysonteencenter.com
SUMMARY:Teen Center Open to Teens 3:00 to 6:00 pm
DESCRIPTION:We are open for teens to sing\, game\, chill\, play instruments\, grab a snack or two\, use wi-fi\, knock out some homework.
URL:https://paysonteencenter.com/event/teen-center-open-to-teens-300-to-600-pm/2025-11-05/
END:VEVENT
BEGIN:VEVENT
DTSTART;TZID=America/Denver:20251106T150000
DTEND;TZID=America/Denver:20251106T190000
DTSTAMP:20260421T192419
CREATED:20250829T234147Z
LAST-MODIFIED:20250829T234224Z
UID:10000654-1762441200-1762455600@paysonteencenter.com
SUMMARY:Open to Teens
DESCRIPTION:
URL:https://paysonteencenter.com/event/open-to-teens/2025-11-06/
END:VEVENT
BEGIN:VEVENT
DTSTART;TZID=America/Denver:20251106T163000
DTEND;TZID=America/Denver:20251106T170000
DTSTAMP:20260421T192419
CREATED:20251011T230419Z
LAST-MODIFIED:20251011T230419Z
UID:10000685-1762446600-1762448400@paysonteencenter.com
SUMMARY:We have an informative pathway towards being better with money
DESCRIPTION:
URL:https://paysonteencenter.com/event/we-have-an-informative-pathway-towards-being-better-with-money/
END:VEVENT
BEGIN:VEVENT
DTSTART;TZID=America/Denver:20251107T150000
DTEND;TZID=America/Denver:20251107T190000
DTSTAMP:20260421T192419
CREATED:20250829T234147Z
LAST-MODIFIED:20250829T234224Z
UID:10000655-1762527600-1762542000@paysonteencenter.com
SUMMARY:Open to Teens
DESCRIPTION:
URL:https://paysonteencenter.com/event/open-to-teens/2025-11-07/
END:VEVENT
BEGIN:VEVENT
DTSTART;TZID=America/Denver:20251108T140000
DTEND;TZID=America/Denver:20251108T190000
DTSTAMP:20260421T192419
CREATED:20250829T235646Z
LAST-MODIFIED:20250829T235646Z
UID:10000673-1762610400-1762628400@paysonteencenter.com
SUMMARY:Open to Teens
DESCRIPTION:
URL:https://paysonteencenter.com/event/open-to-teens-3/2025-11-08/
END:VEVENT
BEGIN:VEVENT
DTSTART;TZID=America/Denver:20251112T150000
DTEND;TZID=America/Denver:20251112T180000
DTSTAMP:20260421T192419
CREATED:20250829T233817Z
LAST-MODIFIED:20250829T233817Z
UID:10000632-1762959600-1762970400@paysonteencenter.com
SUMMARY:Teen Center Open to Teens 3:00 to 6:00 pm
DESCRIPTION:We are open for teens to sing\, game\, chill\, play instruments\, grab a snack or two\, use wi-fi\, knock out some homework.
URL:https://paysonteencenter.com/event/teen-center-open-to-teens-300-to-600-pm/2025-11-12/
END:VEVENT
BEGIN:VEVENT
DTSTART;TZID=America/Denver:20251113T150000
DTEND;TZID=America/Denver:20251113T190000
DTSTAMP:20260421T192419
CREATED:20250829T234147Z
LAST-MODIFIED:20250829T234224Z
UID:10000656-1763046000-1763060400@paysonteencenter.com
SUMMARY:Open to Teens
DESCRIPTION:
URL:https://paysonteencenter.com/event/open-to-teens/2025-11-13/
END:VEVENT
BEGIN:VEVENT
DTSTART;TZID=America/Denver:20251114T150000
DTEND;TZID=America/Denver:20251114T190000
DTSTAMP:20260421T192419
CREATED:20250829T234147Z
LAST-MODIFIED:20250829T234224Z
UID:10000657-1763132400-1763146800@paysonteencenter.com
SUMMARY:Open to Teens
DESCRIPTION:
URL:https://paysonteencenter.com/event/open-to-teens/2025-11-14/
END:VEVENT
BEGIN:VEVENT
DTSTART;TZID=America/Denver:20251115T140000
DTEND;TZID=America/Denver:20251115T190000
DTSTAMP:20260421T192419
CREATED:20250829T235646Z
LAST-MODIFIED:20250829T235646Z
UID:10000674-1763215200-1763233200@paysonteencenter.com
SUMMARY:Open to Teens
DESCRIPTION:
URL:https://paysonteencenter.com/event/open-to-teens-3/2025-11-15/
END:VEVENT
BEGIN:VEVENT
DTSTART;TZID=America/Denver:20251119T150000
DTEND;TZID=America/Denver:20251119T180000
DTSTAMP:20260421T192419
CREATED:20250829T233817Z
LAST-MODIFIED:20250829T233817Z
UID:10000633-1763564400-1763575200@paysonteencenter.com
SUMMARY:Teen Center Open to Teens 3:00 to 6:00 pm
DESCRIPTION:We are open for teens to sing\, game\, chill\, play instruments\, grab a snack or two\, use wi-fi\, knock out some homework.
URL:https://paysonteencenter.com/event/teen-center-open-to-teens-300-to-600-pm/2025-11-19/
END:VEVENT
BEGIN:VEVENT
DTSTART;TZID=America/Denver:20251120T150000
DTEND;TZID=America/Denver:20251120T190000
DTSTAMP:20260421T192419
CREATED:20250829T234147Z
LAST-MODIFIED:20250829T234224Z
UID:10000658-1763650800-1763665200@paysonteencenter.com
SUMMARY:Open to Teens
DESCRIPTION:
URL:https://paysonteencenter.com/event/open-to-teens/2025-11-20/
END:VEVENT
BEGIN:VEVENT
DTSTART;TZID=America/Denver:20251121T150000
DTEND;TZID=America/Denver:20251121T190000
DTSTAMP:20260421T192419
CREATED:20250829T234147Z
LAST-MODIFIED:20250829T234224Z
UID:10000659-1763737200-1763751600@paysonteencenter.com
SUMMARY:Open to Teens
DESCRIPTION:
URL:https://paysonteencenter.com/event/open-to-teens/2025-11-21/
END:VEVENT
BEGIN:VEVENT
DTSTART;TZID=America/Denver:20251122T140000
DTEND;TZID=America/Denver:20251122T190000
DTSTAMP:20260421T192419
CREATED:20250829T235646Z
LAST-MODIFIED:20250829T235646Z
UID:10000675-1763820000-1763838000@paysonteencenter.com
SUMMARY:Open to Teens
DESCRIPTION:
URL:https://paysonteencenter.com/event/open-to-teens-3/2025-11-22/
END:VEVENT
BEGIN:VEVENT
DTSTART;TZID=America/Denver:20251126T150000
DTEND;TZID=America/Denver:20251126T180000
DTSTAMP:20260421T192419
CREATED:20250829T233817Z
LAST-MODIFIED:20250829T233817Z
UID:10000634-1764169200-1764180000@paysonteencenter.com
SUMMARY:Teen Center Open to Teens 3:00 to 6:00 pm
DESCRIPTION:We are open for teens to sing\, game\, chill\, play instruments\, grab a snack or two\, use wi-fi\, knock out some homework.
URL:https://paysonteencenter.com/event/teen-center-open-to-teens-300-to-600-pm/2025-11-26/
END:VEVENT
BEGIN:VEVENT
DTSTART;TZID=America/Denver:20251127T150000
DTEND;TZID=America/Denver:20251127T190000
DTSTAMP:20260421T192419
CREATED:20250829T234147Z
LAST-MODIFIED:20250829T234224Z
UID:10000660-1764255600-1764270000@paysonteencenter.com
SUMMARY:Open to Teens
DESCRIPTION:
URL:https://paysonteencenter.com/event/open-to-teens/2025-11-27/
END:VEVENT
BEGIN:VEVENT
DTSTART;TZID=America/Denver:20251128T150000
DTEND;TZID=America/Denver:20251128T190000
DTSTAMP:20260421T192419
CREATED:20250829T234147Z
LAST-MODIFIED:20250829T234224Z
UID:10000661-1764342000-1764356400@paysonteencenter.com
SUMMARY:Open to Teens
DESCRIPTION:
URL:https://paysonteencenter.com/event/open-to-teens/2025-11-28/
END:VEVENT
BEGIN:VEVENT
DTSTART;TZID=America/Denver:20251128T160000
DTEND;TZID=America/Denver:20251128T180000
DTSTAMP:20260421T192419
CREATED:20250309T002600Z
LAST-MODIFIED:20250309T002600Z
UID:10000016-1764345600-1764352800@paysonteencenter.com
SUMMARY:Monthly Potluck
DESCRIPTION:
URL:https://paysonteencenter.com/event/monthly-potluck/2025-11-28/
END:VEVENT
BEGIN:VEVENT
DTSTART;TZID=America/Denver:20251129T140000
DTEND;TZID=America/Denver:20251129T190000
DTSTAMP:20260421T192419
CREATED:20250829T235646Z
LAST-MODIFIED:20250829T235646Z
UID:10000676-1764424800-1764442800@paysonteencenter.com
SUMMARY:Open to Teens
DESCRIPTION:
URL:https://paysonteencenter.com/event/open-to-teens-3/2025-11-29/
END:VEVENT
BEGIN:VEVENT
DTSTART;TZID=America/Denver:20251203T150000
DTEND;TZID=America/Denver:20251203T180000
DTSTAMP:20260421T192419
CREATED:20250829T233817Z
LAST-MODIFIED:20250829T233817Z
UID:10000635-1764774000-1764784800@paysonteencenter.com
SUMMARY:Teen Center Open to Teens 3:00 to 6:00 pm
DESCRIPTION:We are open for teens to sing\, game\, chill\, play instruments\, grab a snack or two\, use wi-fi\, knock out some homework.
URL:https://paysonteencenter.com/event/teen-center-open-to-teens-300-to-600-pm/2025-12-03/
END:VEVENT
BEGIN:VEVENT
DTSTART;TZID=America/Denver:20251204T150000
DTEND;TZID=America/Denver:20251204T190000
DTSTAMP:20260421T192419
CREATED:20250829T234147Z
LAST-MODIFIED:20250829T234224Z
UID:10000662-1764860400-1764874800@paysonteencenter.com
SUMMARY:Open to Teens
DESCRIPTION:
URL:https://paysonteencenter.com/event/open-to-teens/2025-12-04/
END:VEVENT
BEGIN:VEVENT
DTSTART;TZID=America/Denver:20251206T140000
DTEND;TZID=America/Denver:20251206T190000
DTSTAMP:20260421T192419
CREATED:20250829T235646Z
LAST-MODIFIED:20250829T235646Z
UID:10000677-1765029600-1765047600@paysonteencenter.com
SUMMARY:Open to Teens
DESCRIPTION:
URL:https://paysonteencenter.com/event/open-to-teens-3/2025-12-06/
END:VEVENT
BEGIN:VEVENT
DTSTART;TZID=America/Denver:20251213T140000
DTEND;TZID=America/Denver:20251213T190000
DTSTAMP:20260421T192419
CREATED:20250829T235646Z
LAST-MODIFIED:20250829T235646Z
UID:10000678-1765634400-1765652400@paysonteencenter.com
SUMMARY:Open to Teens
DESCRIPTION:
URL:https://paysonteencenter.com/event/open-to-teens-3/2025-12-13/
END:VEVENT
BEGIN:VEVENT
DTSTART;TZID=America/Denver:20251217T150000
DTEND;TZID=America/Denver:20251217T180000
DTSTAMP:20260421T192419
CREATED:20251211T200817Z
LAST-MODIFIED:20251211T200817Z
UID:10000689-1765983600-1765994400@paysonteencenter.com
SUMMARY:We are having a wrapping party!!! Santa is coming too!!
DESCRIPTION:
URL:https://paysonteencenter.com/event/we-are-having-a-wrapping-party-santa-is-coming-too/2025-12-17/
END:VEVENT
BEGIN:VEVENT
DTSTART;TZID=America/Denver:20251218T150000
DTEND;TZID=America/Denver:20251218T170000
DTSTAMP:20260421T192419
CREATED:20251211T200817Z
LAST-MODIFIED:20251211T200817Z
UID:10000690-1766070000-1766077200@paysonteencenter.com
SUMMARY:We are having a wrapping party!!! Santa is coming too!!
DESCRIPTION:
URL:https://paysonteencenter.com/event/we-are-having-a-wrapping-party-santa-is-coming-too/2025-12-18/
END:VEVENT
BEGIN:VEVENT
DTSTART;TZID=America/Denver:20251219T153000
DTEND;TZID=America/Denver:20251219T170000
DTSTAMP:20260421T192419
CREATED:20251211T201059Z
LAST-MODIFIED:20251211T201059Z
UID:10000691-1766158200-1766163600@paysonteencenter.com
SUMMARY:Making Christmas Candles with Pam
DESCRIPTION:
URL:https://paysonteencenter.com/event/making-christmas-candles-with-pam/
END:VEVENT
BEGIN:VEVENT
DTSTART;TZID=America/Denver:20251225T080000
DTEND;TZID=America/Denver:20251227T170000
DTSTAMP:20260421T192419
CREATED:20251218T192622Z
LAST-MODIFIED:20251218T192622Z
UID:10000692-1766649600-1766854800@paysonteencenter.com
SUMMARY:Closed for Christmas December 25th\, 26th\, 27th
DESCRIPTION:We will be closed.
URL:https://paysonteencenter.com/event/closed-for-christmas-december-25th-26th-27th/
END:VEVENT
BEGIN:VEVENT
DTSTART;TZID=America/Denver:20251226T160000
DTEND;TZID=America/Denver:20251226T180000
DTSTAMP:20260421T192419
CREATED:20250309T002600Z
LAST-MODIFIED:20250309T002600Z
UID:10000017-1766764800-1766772000@paysonteencenter.com
SUMMARY:Monthly Potluck
DESCRIPTION:
URL:https://paysonteencenter.com/event/monthly-potluck/2025-12-26/
END:VEVENT
BEGIN:VEVENT
DTSTART;TZID=America/Denver:20260101T080000
DTEND;TZID=America/Denver:20260101T170000
DTSTAMP:20260421T192419
CREATED:20251218T192748Z
LAST-MODIFIED:20251218T192748Z
UID:10000693-1767254400-1767286800@paysonteencenter.com
SUMMARY:Closed January 1st 2026
DESCRIPTION:
URL:https://paysonteencenter.com/event/closed-january-1st-2026/
END:VEVENT
BEGIN:VEVENT
DTSTART;TZID=America/Denver:20260128T150000
DTEND;TZID=America/Denver:20260128T180000
DTSTAMP:20260421T192419
CREATED:20260127T183947Z
LAST-MODIFIED:20260127T184817Z
UID:10000744-1769612400-1769623200@paysonteencenter.com
SUMMARY:Open to Teens
DESCRIPTION:
URL:https://paysonteencenter.com/event/open-to-teens-4/2026-01-28/
END:VEVENT
END:VCALENDAR