BEGIN:VCALENDAR
VERSION:2.0
PRODID:-//Route 87 Teen Community Center - ECPv6.15.20//NONSGML v1.0//EN
CALSCALE:GREGORIAN
METHOD:PUBLISH
X-ORIGINAL-URL:https://paysonteencenter.com
X-WR-CALDESC:Events for Route 87 Teen Community Center
REFRESH-INTERVAL;VALUE=DURATION:PT1H
X-Robots-Tag:noindex
X-PUBLISHED-TTL:PT1H
BEGIN:VTIMEZONE
TZID:America/Denver
BEGIN:DAYLIGHT
TZOFFSETFROM:-0700
TZOFFSETTO:-0600
TZNAME:MDT
DTSTART:20250309T090000
END:DAYLIGHT
BEGIN:STANDARD
TZOFFSETFROM:-0600
TZOFFSETTO:-0700
TZNAME:MST
DTSTART:20251102T080000
END:STANDARD
BEGIN:DAYLIGHT
TZOFFSETFROM:-0700
TZOFFSETTO:-0600
TZNAME:MDT
DTSTART:20260308T090000
END:DAYLIGHT
BEGIN:STANDARD
TZOFFSETFROM:-0600
TZOFFSETTO:-0700
TZNAME:MST
DTSTART:20261101T080000
END:STANDARD
BEGIN:DAYLIGHT
TZOFFSETFROM:-0700
TZOFFSETTO:-0600
TZNAME:MDT
DTSTART:20270314T090000
END:DAYLIGHT
BEGIN:STANDARD
TZOFFSETFROM:-0600
TZOFFSETTO:-0700
TZNAME:MST
DTSTART:20271107T080000
END:STANDARD
END:VTIMEZONE
BEGIN:VEVENT
DTSTART;TZID=America/Denver:20260304T150000
DTEND;TZID=America/Denver:20260304T180000
DTSTAMP:20260421T174852
CREATED:20260127T183947Z
LAST-MODIFIED:20260127T184817Z
UID:10000749-1772636400-1772647200@paysonteencenter.com
SUMMARY:Open to Teens
DESCRIPTION:
URL:https://paysonteencenter.com/event/open-to-teens-4/2026-03-04/
END:VEVENT
BEGIN:VEVENT
DTSTART;VALUE=DATE:20260306
DTEND;VALUE=DATE:20260307
DTSTAMP:20260421T174852
CREATED:20260227T204843Z
LAST-MODIFIED:20260227T204843Z
UID:10000944-1772755200-1772841599@paysonteencenter.com
SUMMARY:Closed :( for today only
DESCRIPTION:
URL:https://paysonteencenter.com/event/closed-for-today-only/
END:VEVENT
BEGIN:VEVENT
DTSTART;TZID=America/Denver:20260311T150000
DTEND;TZID=America/Denver:20260311T180000
DTSTAMP:20260421T174852
CREATED:20260127T183947Z
LAST-MODIFIED:20260127T184817Z
UID:10000750-1773241200-1773252000@paysonteencenter.com
SUMMARY:Open to Teens
DESCRIPTION:
URL:https://paysonteencenter.com/event/open-to-teens-4/2026-03-11/
END:VEVENT
BEGIN:VEVENT
DTSTART;TZID=America/Denver:20260318T150000
DTEND;TZID=America/Denver:20260318T180000
DTSTAMP:20260421T174852
CREATED:20260127T183947Z
LAST-MODIFIED:20260127T184817Z
UID:10000751-1773846000-1773856800@paysonteencenter.com
SUMMARY:Open to Teens
DESCRIPTION:
URL:https://paysonteencenter.com/event/open-to-teens-4/2026-03-18/
END:VEVENT
BEGIN:VEVENT
DTSTART;TZID=America/Denver:20260319T160000
DTEND;TZID=America/Denver:20260319T170000
DTSTAMP:20260421T174852
CREATED:20260227T203302Z
LAST-MODIFIED:20260227T203324Z
UID:10000837-1773936000-1773939600@paysonteencenter.com
SUMMARY:Projects with pam- Crocheting
DESCRIPTION:
URL:https://paysonteencenter.com/event/projects-with-pam-crocheting/
END:VEVENT
BEGIN:VEVENT
DTSTART;TZID=America/Denver:20260319T163000
DTEND;TZID=America/Denver:20260319T170000
DTSTAMP:20260421T174852
CREATED:20260227T203428Z
LAST-MODIFIED:20260227T203712Z
UID:10000838-1773937800-1773939600@paysonteencenter.com
SUMMARY:Canine Companions - Naresh
DESCRIPTION:
URL:https://paysonteencenter.com/event/naresh/
END:VEVENT
BEGIN:VEVENT
DTSTART;TZID=America/Denver:20260320T154500
DTEND;TZID=America/Denver:20260320T170000
DTSTAMP:20260421T174852
CREATED:20260301T000219Z
LAST-MODIFIED:20260301T000219Z
UID:10001264-1774021500-1774026000@paysonteencenter.com
SUMMARY:9 Ball Tournament 3:45pm
DESCRIPTION:
URL:https://paysonteencenter.com/event/9-ball-tournament-345pm/
END:VEVENT
BEGIN:VEVENT
DTSTART;TZID=America/Denver:20260325T150000
DTEND;TZID=America/Denver:20260325T180000
DTSTAMP:20260421T174852
CREATED:20260127T183947Z
LAST-MODIFIED:20260127T184817Z
UID:10000752-1774450800-1774461600@paysonteencenter.com
SUMMARY:Open to Teens
DESCRIPTION:
URL:https://paysonteencenter.com/event/open-to-teens-4/2026-03-25/
END:VEVENT
BEGIN:VEVENT
DTSTART;TZID=America/Denver:20260326T150000
DTEND;TZID=America/Denver:20260326T190000
DTSTAMP:20260421T174852
CREATED:20260325T161342Z
LAST-MODIFIED:20260325T162501Z
UID:10001554-1774537200-1774551600@paysonteencenter.com
SUMMARY:Open to Teens 3-7 pm
DESCRIPTION:
URL:https://paysonteencenter.com/event/open-3-7-pm/2026-03-26/
END:VEVENT
BEGIN:VEVENT
DTSTART;TZID=America/Denver:20260327T150000
DTEND;TZID=America/Denver:20260327T190000
DTSTAMP:20260421T174852
CREATED:20260325T163102Z
LAST-MODIFIED:20260325T163102Z
UID:10001594-1774623600-1774638000@paysonteencenter.com
SUMMARY:Open to Teens 3-7 pm
DESCRIPTION:
URL:https://paysonteencenter.com/event/open-to-teens-3-7-pm/2026-03-27/
END:VEVENT
BEGIN:VEVENT
DTSTART;TZID=America/Denver:20260328T130000
DTEND;TZID=America/Denver:20260328T170000
DTSTAMP:20260421T174852
CREATED:20260325T184829Z
LAST-MODIFIED:20260325T184829Z
UID:10001634-1774702800-1774717200@paysonteencenter.com
SUMMARY:Open to Teens 1-5 pm
DESCRIPTION:
URL:https://paysonteencenter.com/event/open-to-teens-1-5-pm/2026-03-28/
END:VEVENT
BEGIN:VEVENT
DTSTART;TZID=America/Denver:20260401T150000
DTEND;TZID=America/Denver:20260401T180000
DTSTAMP:20260421T174852
CREATED:20260127T183947Z
LAST-MODIFIED:20260127T184817Z
UID:10000753-1775055600-1775066400@paysonteencenter.com
SUMMARY:Open to Teens
DESCRIPTION:
URL:https://paysonteencenter.com/event/open-to-teens-4/2026-04-01/
END:VEVENT
BEGIN:VEVENT
DTSTART;TZID=America/Denver:20260401T160000
DTEND;TZID=America/Denver:20260401T170000
DTSTAMP:20260421T174852
CREATED:20260227T203053Z
LAST-MODIFIED:20260227T203053Z
UID:10000836-1775059200-1775062800@paysonteencenter.com
SUMMARY:Alcohol Awareness Presentation by Az Dept of Liquor
DESCRIPTION:
URL:https://paysonteencenter.com/event/alcohol-awareness-presentation-by-az-dept-of-liquor/
END:VEVENT
BEGIN:VEVENT
DTSTART;TZID=America/Denver:20260402T150000
DTEND;TZID=America/Denver:20260402T190000
DTSTAMP:20260421T174852
CREATED:20260325T161342Z
LAST-MODIFIED:20260325T162501Z
UID:10001555-1775142000-1775156400@paysonteencenter.com
SUMMARY:Open to Teens 3-7 pm
DESCRIPTION:
URL:https://paysonteencenter.com/event/open-3-7-pm/2026-04-02/
END:VEVENT
BEGIN:VEVENT
DTSTART;TZID=America/Denver:20260403T150000
DTEND;TZID=America/Denver:20260403T190000
DTSTAMP:20260421T174852
CREATED:20260325T163102Z
LAST-MODIFIED:20260325T163102Z
UID:10001595-1775228400-1775242800@paysonteencenter.com
SUMMARY:Open to Teens 3-7 pm
DESCRIPTION:
URL:https://paysonteencenter.com/event/open-to-teens-3-7-pm/2026-04-03/
END:VEVENT
BEGIN:VEVENT
DTSTART;TZID=America/Denver:20260404T130000
DTEND;TZID=America/Denver:20260404T170000
DTSTAMP:20260421T174852
CREATED:20260325T184829Z
LAST-MODIFIED:20260325T184829Z
UID:10001635-1775307600-1775322000@paysonteencenter.com
SUMMARY:Open to Teens 1-5 pm
DESCRIPTION:
URL:https://paysonteencenter.com/event/open-to-teens-1-5-pm/2026-04-04/
END:VEVENT
BEGIN:VEVENT
DTSTART;TZID=America/Denver:20260408T150000
DTEND;TZID=America/Denver:20260408T180000
DTSTAMP:20260421T174852
CREATED:20260127T183947Z
LAST-MODIFIED:20260127T184817Z
UID:10000754-1775660400-1775671200@paysonteencenter.com
SUMMARY:Open to Teens
DESCRIPTION:
URL:https://paysonteencenter.com/event/open-to-teens-4/2026-04-08/
END:VEVENT
BEGIN:VEVENT
DTSTART;TZID=America/Denver:20260409T150000
DTEND;TZID=America/Denver:20260409T190000
DTSTAMP:20260421T174852
CREATED:20260325T161342Z
LAST-MODIFIED:20260325T162501Z
UID:10001556-1775746800-1775761200@paysonteencenter.com
SUMMARY:Open to Teens 3-7 pm
DESCRIPTION:
URL:https://paysonteencenter.com/event/open-3-7-pm/2026-04-09/
END:VEVENT
BEGIN:VEVENT
DTSTART;TZID=America/Denver:20260409T163000
DTEND;TZID=America/Denver:20260409T173000
DTSTAMP:20260421T174852
CREATED:20260127T171738Z
LAST-MODIFIED:20260127T171738Z
UID:10000707-1775752200-1775755800@paysonteencenter.com
SUMMARY:Arizona Game and Fish Visiting
DESCRIPTION:
URL:https://paysonteencenter.com/event/arizona-game-and-fish-visiting/
END:VEVENT
BEGIN:VEVENT
DTSTART;TZID=America/Denver:20260410T150000
DTEND;TZID=America/Denver:20260410T190000
DTSTAMP:20260421T174852
CREATED:20260325T163102Z
LAST-MODIFIED:20260325T163102Z
UID:10001596-1775833200-1775847600@paysonteencenter.com
SUMMARY:Open to Teens 3-7 pm
DESCRIPTION:
URL:https://paysonteencenter.com/event/open-to-teens-3-7-pm/2026-04-10/
END:VEVENT
BEGIN:VEVENT
DTSTART;TZID=America/Denver:20260411T130000
DTEND;TZID=America/Denver:20260411T170000
DTSTAMP:20260421T174852
CREATED:20260325T184829Z
LAST-MODIFIED:20260325T184829Z
UID:10001636-1775912400-1775926800@paysonteencenter.com
SUMMARY:Open to Teens 1-5 pm
DESCRIPTION:
URL:https://paysonteencenter.com/event/open-to-teens-1-5-pm/2026-04-11/
END:VEVENT
BEGIN:VEVENT
DTSTART;TZID=America/Denver:20260415T150000
DTEND;TZID=America/Denver:20260415T180000
DTSTAMP:20260421T174852
CREATED:20260127T183947Z
LAST-MODIFIED:20260127T184817Z
UID:10000755-1776265200-1776276000@paysonteencenter.com
SUMMARY:Open to Teens
DESCRIPTION:
URL:https://paysonteencenter.com/event/open-to-teens-4/2026-04-15/
END:VEVENT
BEGIN:VEVENT
DTSTART;TZID=America/Denver:20260416T150000
DTEND;TZID=America/Denver:20260416T190000
DTSTAMP:20260421T174852
CREATED:20260325T161342Z
LAST-MODIFIED:20260325T162501Z
UID:10001557-1776351600-1776366000@paysonteencenter.com
SUMMARY:Open to Teens 3-7 pm
DESCRIPTION:
URL:https://paysonteencenter.com/event/open-3-7-pm/2026-04-16/
END:VEVENT
BEGIN:VEVENT
DTSTART;TZID=America/Denver:20260417T150000
DTEND;TZID=America/Denver:20260417T190000
DTSTAMP:20260421T174852
CREATED:20260325T163102Z
LAST-MODIFIED:20260325T163102Z
UID:10001597-1776438000-1776452400@paysonteencenter.com
SUMMARY:Open to Teens 3-7 pm
DESCRIPTION:
URL:https://paysonteencenter.com/event/open-to-teens-3-7-pm/2026-04-17/
END:VEVENT
BEGIN:VEVENT
DTSTART;TZID=America/Denver:20260418T080000
DTEND;TZID=America/Denver:20260418T160000
DTSTAMP:20260421T174852
CREATED:20260127T171216Z
LAST-MODIFIED:20260127T171216Z
UID:10000706-1776499200-1776528000@paysonteencenter.com
SUMMARY:Earth Day Cleanup 8-4 Out in the community
DESCRIPTION:Come find us.
URL:https://paysonteencenter.com/event/earth-day-cleanup-8-4-out-in-the-community/
END:VEVENT
BEGIN:VEVENT
DTSTART;TZID=America/Denver:20260418T130000
DTEND;TZID=America/Denver:20260418T170000
DTSTAMP:20260421T174852
CREATED:20260325T184829Z
LAST-MODIFIED:20260325T184829Z
UID:10001637-1776517200-1776531600@paysonteencenter.com
SUMMARY:Open to Teens 1-5 pm
DESCRIPTION:
URL:https://paysonteencenter.com/event/open-to-teens-1-5-pm/2026-04-18/
END:VEVENT
BEGIN:VEVENT
DTSTART;TZID=America/Denver:20260422T150000
DTEND;TZID=America/Denver:20260422T180000
DTSTAMP:20260421T174852
CREATED:20260127T183947Z
LAST-MODIFIED:20260127T184817Z
UID:10000756-1776870000-1776880800@paysonteencenter.com
SUMMARY:Open to Teens
DESCRIPTION:
URL:https://paysonteencenter.com/event/open-to-teens-4/2026-04-22/
END:VEVENT
BEGIN:VEVENT
DTSTART;TZID=America/Denver:20260423T150000
DTEND;TZID=America/Denver:20260423T190000
DTSTAMP:20260421T174852
CREATED:20260325T161342Z
LAST-MODIFIED:20260325T162501Z
UID:10001558-1776956400-1776970800@paysonteencenter.com
SUMMARY:Open to Teens 3-7 pm
DESCRIPTION:
URL:https://paysonteencenter.com/event/open-3-7-pm/2026-04-23/
END:VEVENT
BEGIN:VEVENT
DTSTART;TZID=America/Denver:20260424T150000
DTEND;TZID=America/Denver:20260424T190000
DTSTAMP:20260421T174852
CREATED:20260325T163102Z
LAST-MODIFIED:20260325T163102Z
UID:10001598-1777042800-1777057200@paysonteencenter.com
SUMMARY:Open to Teens 3-7 pm
DESCRIPTION:
URL:https://paysonteencenter.com/event/open-to-teens-3-7-pm/2026-04-24/
END:VEVENT
BEGIN:VEVENT
DTSTART;TZID=America/Denver:20260425T130000
DTEND;TZID=America/Denver:20260425T170000
DTSTAMP:20260421T174852
CREATED:20260325T184829Z
LAST-MODIFIED:20260325T184829Z
UID:10001638-1777122000-1777136400@paysonteencenter.com
SUMMARY:Open to Teens 1-5 pm
DESCRIPTION:
URL:https://paysonteencenter.com/event/open-to-teens-1-5-pm/2026-04-25/
END:VEVENT
END:VCALENDAR