BEGIN:VCALENDAR
VERSION:2.0
PRODID:-//Route 87 Teen Community Center - ECPv6.15.20//NONSGML v1.0//EN
CALSCALE:GREGORIAN
METHOD:PUBLISH
X-ORIGINAL-URL:https://paysonteencenter.com
X-WR-CALDESC:Events for Route 87 Teen Community Center
REFRESH-INTERVAL;VALUE=DURATION:PT1H
X-Robots-Tag:noindex
X-PUBLISHED-TTL:PT1H
BEGIN:VTIMEZONE
TZID:America/Denver
BEGIN:DAYLIGHT
TZOFFSETFROM:-0700
TZOFFSETTO:-0600
TZNAME:MDT
DTSTART:20250309T090000
END:DAYLIGHT
BEGIN:STANDARD
TZOFFSETFROM:-0600
TZOFFSETTO:-0700
TZNAME:MST
DTSTART:20251102T080000
END:STANDARD
BEGIN:DAYLIGHT
TZOFFSETFROM:-0700
TZOFFSETTO:-0600
TZNAME:MDT
DTSTART:20260308T090000
END:DAYLIGHT
BEGIN:STANDARD
TZOFFSETFROM:-0600
TZOFFSETTO:-0700
TZNAME:MST
DTSTART:20261101T080000
END:STANDARD
BEGIN:DAYLIGHT
TZOFFSETFROM:-0700
TZOFFSETTO:-0600
TZNAME:MDT
DTSTART:20270314T090000
END:DAYLIGHT
BEGIN:STANDARD
TZOFFSETFROM:-0600
TZOFFSETTO:-0700
TZNAME:MST
DTSTART:20271107T080000
END:STANDARD
END:VTIMEZONE
BEGIN:VEVENT
DTSTART;TZID=America/Denver:20260730T150000
DTEND;TZID=America/Denver:20260730T190000
DTSTAMP:20260421T174851
CREATED:20260325T161342Z
LAST-MODIFIED:20260325T162501Z
UID:10001572-1785423600-1785438000@paysonteencenter.com
SUMMARY:Open to Teens 3-7 pm
DESCRIPTION:
URL:https://paysonteencenter.com/event/open-3-7-pm/2026-07-30/
END:VEVENT
BEGIN:VEVENT
DTSTART;TZID=America/Denver:20260731T150000
DTEND;TZID=America/Denver:20260731T190000
DTSTAMP:20260421T174851
CREATED:20260325T163102Z
LAST-MODIFIED:20260325T163102Z
UID:10001612-1785510000-1785524400@paysonteencenter.com
SUMMARY:Open to Teens 3-7 pm
DESCRIPTION:
URL:https://paysonteencenter.com/event/open-to-teens-3-7-pm/2026-07-31/
END:VEVENT
BEGIN:VEVENT
DTSTART;TZID=America/Denver:20260801T130000
DTEND;TZID=America/Denver:20260801T170000
DTSTAMP:20260421T174851
CREATED:20260325T184829Z
LAST-MODIFIED:20260325T184829Z
UID:10001652-1785589200-1785603600@paysonteencenter.com
SUMMARY:Open to Teens 1-5 pm
DESCRIPTION:
URL:https://paysonteencenter.com/event/open-to-teens-1-5-pm/2026-08-01/
END:VEVENT
BEGIN:VEVENT
DTSTART;TZID=America/Denver:20260806T150000
DTEND;TZID=America/Denver:20260806T190000
DTSTAMP:20260421T174851
CREATED:20260325T161342Z
LAST-MODIFIED:20260325T162501Z
UID:10001573-1786028400-1786042800@paysonteencenter.com
SUMMARY:Open to Teens 3-7 pm
DESCRIPTION:
URL:https://paysonteencenter.com/event/open-3-7-pm/2026-08-06/
END:VEVENT
BEGIN:VEVENT
DTSTART;TZID=America/Denver:20260807T150000
DTEND;TZID=America/Denver:20260807T190000
DTSTAMP:20260421T174851
CREATED:20260325T163102Z
LAST-MODIFIED:20260325T163102Z
UID:10001613-1786114800-1786129200@paysonteencenter.com
SUMMARY:Open to Teens 3-7 pm
DESCRIPTION:
URL:https://paysonteencenter.com/event/open-to-teens-3-7-pm/2026-08-07/
END:VEVENT
BEGIN:VEVENT
DTSTART;TZID=America/Denver:20260808T130000
DTEND;TZID=America/Denver:20260808T170000
DTSTAMP:20260421T174851
CREATED:20260325T184829Z
LAST-MODIFIED:20260325T184829Z
UID:10001653-1786194000-1786208400@paysonteencenter.com
SUMMARY:Open to Teens 1-5 pm
DESCRIPTION:
URL:https://paysonteencenter.com/event/open-to-teens-1-5-pm/2026-08-08/
END:VEVENT
BEGIN:VEVENT
DTSTART;TZID=America/Denver:20260813T150000
DTEND;TZID=America/Denver:20260813T190000
DTSTAMP:20260421T174851
CREATED:20260325T161342Z
LAST-MODIFIED:20260325T162501Z
UID:10001574-1786633200-1786647600@paysonteencenter.com
SUMMARY:Open to Teens 3-7 pm
DESCRIPTION:
URL:https://paysonteencenter.com/event/open-3-7-pm/2026-08-13/
END:VEVENT
BEGIN:VEVENT
DTSTART;TZID=America/Denver:20260814T150000
DTEND;TZID=America/Denver:20260814T190000
DTSTAMP:20260421T174851
CREATED:20260325T163102Z
LAST-MODIFIED:20260325T163102Z
UID:10001614-1786719600-1786734000@paysonteencenter.com
SUMMARY:Open to Teens 3-7 pm
DESCRIPTION:
URL:https://paysonteencenter.com/event/open-to-teens-3-7-pm/2026-08-14/
END:VEVENT
BEGIN:VEVENT
DTSTART;TZID=America/Denver:20260815T130000
DTEND;TZID=America/Denver:20260815T170000
DTSTAMP:20260421T174851
CREATED:20260325T184829Z
LAST-MODIFIED:20260325T184829Z
UID:10001654-1786798800-1786813200@paysonteencenter.com
SUMMARY:Open to Teens 1-5 pm
DESCRIPTION:
URL:https://paysonteencenter.com/event/open-to-teens-1-5-pm/2026-08-15/
END:VEVENT
BEGIN:VEVENT
DTSTART;TZID=America/Denver:20260820T150000
DTEND;TZID=America/Denver:20260820T190000
DTSTAMP:20260421T174851
CREATED:20260325T161342Z
LAST-MODIFIED:20260325T162501Z
UID:10001575-1787238000-1787252400@paysonteencenter.com
SUMMARY:Open to Teens 3-7 pm
DESCRIPTION:
URL:https://paysonteencenter.com/event/open-3-7-pm/2026-08-20/
END:VEVENT
BEGIN:VEVENT
DTSTART;TZID=America/Denver:20260821T150000
DTEND;TZID=America/Denver:20260821T190000
DTSTAMP:20260421T174851
CREATED:20260325T163102Z
LAST-MODIFIED:20260325T163102Z
UID:10001615-1787324400-1787338800@paysonteencenter.com
SUMMARY:Open to Teens 3-7 pm
DESCRIPTION:
URL:https://paysonteencenter.com/event/open-to-teens-3-7-pm/2026-08-21/
END:VEVENT
BEGIN:VEVENT
DTSTART;TZID=America/Denver:20260822T130000
DTEND;TZID=America/Denver:20260822T170000
DTSTAMP:20260421T174851
CREATED:20260325T184829Z
LAST-MODIFIED:20260325T184829Z
UID:10001655-1787403600-1787418000@paysonteencenter.com
SUMMARY:Open to Teens 1-5 pm
DESCRIPTION:
URL:https://paysonteencenter.com/event/open-to-teens-1-5-pm/2026-08-22/
END:VEVENT
BEGIN:VEVENT
DTSTART;TZID=America/Denver:20260827T150000
DTEND;TZID=America/Denver:20260827T190000
DTSTAMP:20260421T174851
CREATED:20260325T161342Z
LAST-MODIFIED:20260325T162501Z
UID:10001576-1787842800-1787857200@paysonteencenter.com
SUMMARY:Open to Teens 3-7 pm
DESCRIPTION:
URL:https://paysonteencenter.com/event/open-3-7-pm/2026-08-27/
END:VEVENT
BEGIN:VEVENT
DTSTART;TZID=America/Denver:20260828T150000
DTEND;TZID=America/Denver:20260828T190000
DTSTAMP:20260421T174851
CREATED:20260325T163102Z
LAST-MODIFIED:20260325T163102Z
UID:10001616-1787929200-1787943600@paysonteencenter.com
SUMMARY:Open to Teens 3-7 pm
DESCRIPTION:
URL:https://paysonteencenter.com/event/open-to-teens-3-7-pm/2026-08-28/
END:VEVENT
BEGIN:VEVENT
DTSTART;TZID=America/Denver:20260829T130000
DTEND;TZID=America/Denver:20260829T170000
DTSTAMP:20260421T174851
CREATED:20260325T184829Z
LAST-MODIFIED:20260325T184829Z
UID:10001656-1788008400-1788022800@paysonteencenter.com
SUMMARY:Open to Teens 1-5 pm
DESCRIPTION:
URL:https://paysonteencenter.com/event/open-to-teens-1-5-pm/2026-08-29/
END:VEVENT
BEGIN:VEVENT
DTSTART;TZID=America/Denver:20260903T150000
DTEND;TZID=America/Denver:20260903T190000
DTSTAMP:20260421T174851
CREATED:20260325T161342Z
LAST-MODIFIED:20260325T162501Z
UID:10001577-1788447600-1788462000@paysonteencenter.com
SUMMARY:Open to Teens 3-7 pm
DESCRIPTION:
URL:https://paysonteencenter.com/event/open-3-7-pm/2026-09-03/
END:VEVENT
BEGIN:VEVENT
DTSTART;TZID=America/Denver:20260904T150000
DTEND;TZID=America/Denver:20260904T190000
DTSTAMP:20260421T174851
CREATED:20260325T163102Z
LAST-MODIFIED:20260325T163102Z
UID:10001617-1788534000-1788548400@paysonteencenter.com
SUMMARY:Open to Teens 3-7 pm
DESCRIPTION:
URL:https://paysonteencenter.com/event/open-to-teens-3-7-pm/2026-09-04/
END:VEVENT
BEGIN:VEVENT
DTSTART;TZID=America/Denver:20260905T130000
DTEND;TZID=America/Denver:20260905T170000
DTSTAMP:20260421T174851
CREATED:20260325T184829Z
LAST-MODIFIED:20260325T184829Z
UID:10001657-1788613200-1788627600@paysonteencenter.com
SUMMARY:Open to Teens 1-5 pm
DESCRIPTION:
URL:https://paysonteencenter.com/event/open-to-teens-1-5-pm/2026-09-05/
END:VEVENT
BEGIN:VEVENT
DTSTART;TZID=America/Denver:20260910T150000
DTEND;TZID=America/Denver:20260910T190000
DTSTAMP:20260421T174851
CREATED:20260325T161342Z
LAST-MODIFIED:20260325T162501Z
UID:10001578-1789052400-1789066800@paysonteencenter.com
SUMMARY:Open to Teens 3-7 pm
DESCRIPTION:
URL:https://paysonteencenter.com/event/open-3-7-pm/2026-09-10/
END:VEVENT
BEGIN:VEVENT
DTSTART;TZID=America/Denver:20260911T150000
DTEND;TZID=America/Denver:20260911T190000
DTSTAMP:20260421T174851
CREATED:20260325T163102Z
LAST-MODIFIED:20260325T163102Z
UID:10001618-1789138800-1789153200@paysonteencenter.com
SUMMARY:Open to Teens 3-7 pm
DESCRIPTION:
URL:https://paysonteencenter.com/event/open-to-teens-3-7-pm/2026-09-11/
END:VEVENT
BEGIN:VEVENT
DTSTART;TZID=America/Denver:20260912T130000
DTEND;TZID=America/Denver:20260912T170000
DTSTAMP:20260421T174851
CREATED:20260325T184829Z
LAST-MODIFIED:20260325T184829Z
UID:10001658-1789218000-1789232400@paysonteencenter.com
SUMMARY:Open to Teens 1-5 pm
DESCRIPTION:
URL:https://paysonteencenter.com/event/open-to-teens-1-5-pm/2026-09-12/
END:VEVENT
BEGIN:VEVENT
DTSTART;TZID=America/Denver:20260917T150000
DTEND;TZID=America/Denver:20260917T190000
DTSTAMP:20260421T174851
CREATED:20260325T161342Z
LAST-MODIFIED:20260325T162501Z
UID:10001579-1789657200-1789671600@paysonteencenter.com
SUMMARY:Open to Teens 3-7 pm
DESCRIPTION:
URL:https://paysonteencenter.com/event/open-3-7-pm/2026-09-17/
END:VEVENT
BEGIN:VEVENT
DTSTART;TZID=America/Denver:20260918T150000
DTEND;TZID=America/Denver:20260918T190000
DTSTAMP:20260421T174851
CREATED:20260325T163102Z
LAST-MODIFIED:20260325T163102Z
UID:10001619-1789743600-1789758000@paysonteencenter.com
SUMMARY:Open to Teens 3-7 pm
DESCRIPTION:
URL:https://paysonteencenter.com/event/open-to-teens-3-7-pm/2026-09-18/
END:VEVENT
BEGIN:VEVENT
DTSTART;TZID=America/Denver:20260919T130000
DTEND;TZID=America/Denver:20260919T170000
DTSTAMP:20260421T174851
CREATED:20260325T184829Z
LAST-MODIFIED:20260325T184829Z
UID:10001659-1789822800-1789837200@paysonteencenter.com
SUMMARY:Open to Teens 1-5 pm
DESCRIPTION:
URL:https://paysonteencenter.com/event/open-to-teens-1-5-pm/2026-09-19/
END:VEVENT
BEGIN:VEVENT
DTSTART;TZID=America/Denver:20260924T150000
DTEND;TZID=America/Denver:20260924T190000
DTSTAMP:20260421T174851
CREATED:20260325T161342Z
LAST-MODIFIED:20260325T162501Z
UID:10001580-1790262000-1790276400@paysonteencenter.com
SUMMARY:Open to Teens 3-7 pm
DESCRIPTION:
URL:https://paysonteencenter.com/event/open-3-7-pm/2026-09-24/
END:VEVENT
BEGIN:VEVENT
DTSTART;TZID=America/Denver:20260925T150000
DTEND;TZID=America/Denver:20260925T190000
DTSTAMP:20260421T174851
CREATED:20260325T163102Z
LAST-MODIFIED:20260325T163102Z
UID:10001620-1790348400-1790362800@paysonteencenter.com
SUMMARY:Open to Teens 3-7 pm
DESCRIPTION:
URL:https://paysonteencenter.com/event/open-to-teens-3-7-pm/2026-09-25/
END:VEVENT
BEGIN:VEVENT
DTSTART;TZID=America/Denver:20260926T130000
DTEND;TZID=America/Denver:20260926T170000
DTSTAMP:20260421T174851
CREATED:20260325T184829Z
LAST-MODIFIED:20260325T184829Z
UID:10001660-1790427600-1790442000@paysonteencenter.com
SUMMARY:Open to Teens 1-5 pm
DESCRIPTION:
URL:https://paysonteencenter.com/event/open-to-teens-1-5-pm/2026-09-26/
END:VEVENT
BEGIN:VEVENT
DTSTART;TZID=America/Denver:20261001T150000
DTEND;TZID=America/Denver:20261001T190000
DTSTAMP:20260421T174851
CREATED:20260325T161342Z
LAST-MODIFIED:20260325T162501Z
UID:10001581-1790866800-1790881200@paysonteencenter.com
SUMMARY:Open to Teens 3-7 pm
DESCRIPTION:
URL:https://paysonteencenter.com/event/open-3-7-pm/2026-10-01/
END:VEVENT
BEGIN:VEVENT
DTSTART;TZID=America/Denver:20261002T150000
DTEND;TZID=America/Denver:20261002T190000
DTSTAMP:20260421T174851
CREATED:20260325T163102Z
LAST-MODIFIED:20260325T163102Z
UID:10001621-1790953200-1790967600@paysonteencenter.com
SUMMARY:Open to Teens 3-7 pm
DESCRIPTION:
URL:https://paysonteencenter.com/event/open-to-teens-3-7-pm/2026-10-02/
END:VEVENT
BEGIN:VEVENT
DTSTART;TZID=America/Denver:20261003T130000
DTEND;TZID=America/Denver:20261003T170000
DTSTAMP:20260421T174851
CREATED:20260325T184829Z
LAST-MODIFIED:20260325T184829Z
UID:10001661-1791032400-1791046800@paysonteencenter.com
SUMMARY:Open to Teens 1-5 pm
DESCRIPTION:
URL:https://paysonteencenter.com/event/open-to-teens-1-5-pm/2026-10-03/
END:VEVENT
END:VCALENDAR