BEGIN:VCALENDAR
VERSION:2.0
PRODID:-//Route 87 Teen Community Center - ECPv6.15.20//NONSGML v1.0//EN
CALSCALE:GREGORIAN
METHOD:PUBLISH
X-WR-CALNAME:Route 87 Teen Community Center
X-ORIGINAL-URL:https://paysonteencenter.com
X-WR-CALDESC:Events for Route 87 Teen Community Center
REFRESH-INTERVAL;VALUE=DURATION:PT1H
X-Robots-Tag:noindex
X-PUBLISHED-TTL:PT1H
BEGIN:VTIMEZONE
TZID:America/Denver
BEGIN:DAYLIGHT
TZOFFSETFROM:-0700
TZOFFSETTO:-0600
TZNAME:MDT
DTSTART:20240310T090000
END:DAYLIGHT
BEGIN:STANDARD
TZOFFSETFROM:-0600
TZOFFSETTO:-0700
TZNAME:MST
DTSTART:20241103T080000
END:STANDARD
BEGIN:DAYLIGHT
TZOFFSETFROM:-0700
TZOFFSETTO:-0600
TZNAME:MDT
DTSTART:20250309T090000
END:DAYLIGHT
BEGIN:STANDARD
TZOFFSETFROM:-0600
TZOFFSETTO:-0700
TZNAME:MST
DTSTART:20251102T080000
END:STANDARD
BEGIN:DAYLIGHT
TZOFFSETFROM:-0700
TZOFFSETTO:-0600
TZNAME:MDT
DTSTART:20260308T090000
END:DAYLIGHT
BEGIN:STANDARD
TZOFFSETFROM:-0600
TZOFFSETTO:-0700
TZNAME:MST
DTSTART:20261101T080000
END:STANDARD
END:VTIMEZONE
BEGIN:VEVENT
DTSTART;TZID=America/Denver:20250314T150000
DTEND;TZID=America/Denver:20250314T170000
DTSTAMP:20260424T022634
CREATED:20250309T001955Z
LAST-MODIFIED:20250309T001955Z
UID:10000006-1741964400-1741971600@paysonteencenter.com
SUMMARY:Projects with Pam
DESCRIPTION:
URL:https://paysonteencenter.com/event/projects-with-pam/
END:VEVENT
BEGIN:VEVENT
DTSTART;TZID=America/Denver:20250313T160000
DTEND;TZID=America/Denver:20250313T170000
DTSTAMP:20260424T022634
CREATED:20250312T230938Z
LAST-MODIFIED:20250312T230938Z
UID:10000234-1741881600-1741885200@paysonteencenter.com
SUMMARY:Career Development Payson Fire Department
DESCRIPTION:
URL:https://paysonteencenter.com/event/career-development-payson-fire-department/
ORGANIZER;CN="Payson Teen Center":MAILTO:jsimko@courts.az.gov
END:VEVENT
END:VCALENDAR