BEGIN:VCALENDAR
VERSION:2.0
PRODID:-//Route 87 Teen Community Center - ECPv6.15.20//NONSGML v1.0//EN
CALSCALE:GREGORIAN
METHOD:PUBLISH
X-WR-CALNAME:Route 87 Teen Community Center
X-ORIGINAL-URL:https://paysonteencenter.com
X-WR-CALDESC:Events for Route 87 Teen Community Center
REFRESH-INTERVAL;VALUE=DURATION:PT1H
X-Robots-Tag:noindex
X-PUBLISHED-TTL:PT1H
BEGIN:VTIMEZONE
TZID:America/Denver
BEGIN:DAYLIGHT
TZOFFSETFROM:-0700
TZOFFSETTO:-0600
TZNAME:MDT
DTSTART:20240310T090000
END:DAYLIGHT
BEGIN:STANDARD
TZOFFSETFROM:-0600
TZOFFSETTO:-0700
TZNAME:MST
DTSTART:20241103T080000
END:STANDARD
BEGIN:DAYLIGHT
TZOFFSETFROM:-0700
TZOFFSETTO:-0600
TZNAME:MDT
DTSTART:20250309T090000
END:DAYLIGHT
BEGIN:STANDARD
TZOFFSETFROM:-0600
TZOFFSETTO:-0700
TZNAME:MST
DTSTART:20251102T080000
END:STANDARD
BEGIN:DAYLIGHT
TZOFFSETFROM:-0700
TZOFFSETTO:-0600
TZNAME:MDT
DTSTART:20260308T090000
END:DAYLIGHT
BEGIN:STANDARD
TZOFFSETFROM:-0600
TZOFFSETTO:-0700
TZNAME:MST
DTSTART:20261101T080000
END:STANDARD
END:VTIMEZONE
BEGIN:VEVENT
DTSTART;TZID=America/Denver:20250917T150000
DTEND;TZID=America/Denver:20250917T180000
DTSTAMP:20260422T015242
CREATED:20250829T233817Z
LAST-MODIFIED:20250829T233817Z
UID:10000624-1758121200-1758132000@paysonteencenter.com
SUMMARY:Teen Center Open to Teens 3:00 to 6:00 pm
DESCRIPTION:We are open for teens to sing\, game\, chill\, play instruments\, grab a snack or two\, use wi-fi\, knock out some homework.
URL:https://paysonteencenter.com/event/teen-center-open-to-teens-300-to-600-pm/2025-09-17/
END:VEVENT
BEGIN:VEVENT
DTSTART;TZID=America/Denver:20250913T140000
DTEND;TZID=America/Denver:20250913T190000
DTSTAMP:20260422T015242
CREATED:20250829T235646Z
LAST-MODIFIED:20250829T235646Z
UID:10000665-1757772000-1757790000@paysonteencenter.com
SUMMARY:Open to Teens
DESCRIPTION:
URL:https://paysonteencenter.com/event/open-to-teens-3/2025-09-13/
END:VEVENT
BEGIN:VEVENT
DTSTART;TZID=America/Denver:20250912T160000
DTEND;TZID=America/Denver:20250912T170000
DTSTAMP:20260422T015242
CREATED:20250829T205608Z
LAST-MODIFIED:20250829T205608Z
UID:10000618-1757692800-1757696400@paysonteencenter.com
SUMMARY:Hot Chocolate Night
DESCRIPTION:
URL:https://paysonteencenter.com/event/hot-chocolate-night/
END:VEVENT
BEGIN:VEVENT
DTSTART;TZID=America/Denver:20250912T150000
DTEND;TZID=America/Denver:20250912T190000
DTSTAMP:20260422T015242
CREATED:20250829T234147Z
LAST-MODIFIED:20250829T234224Z
UID:10000639-1757689200-1757703600@paysonteencenter.com
SUMMARY:Open to Teens
DESCRIPTION:
URL:https://paysonteencenter.com/event/open-to-teens/2025-09-12/
END:VEVENT
BEGIN:VEVENT
DTSTART;TZID=America/Denver:20250912T150000
DTEND;TZID=America/Denver:20250912T180000
DTSTAMP:20260422T015242
CREATED:20250909T223249Z
LAST-MODIFIED:20250909T223249Z
UID:10000679-1757689200-1757700000@paysonteencenter.com
SUMMARY:Projects with Pam @ 3pm
DESCRIPTION:Pam brings in a wide variety of cool things – resin jewelry\, duct tape wallets\, holiday decor\, picture frames\, Boho art and more.
URL:https://paysonteencenter.com/event/projects-with-pam-3pm/
END:VEVENT
BEGIN:VEVENT
DTSTART;TZID=America/Denver:20250911T163000
DTEND;TZID=America/Denver:20250911T170000
DTSTAMP:20260422T015242
CREATED:20250829T205803Z
LAST-MODIFIED:20250829T225950Z
UID:10000620-1757608200-1757610000@paysonteencenter.com
SUMMARY:4-Legged Friend seeking scratches
DESCRIPTION:We have Canine Companions coming in here pretty often. This is an ideal opportunity to meet a new friend with fur and who loves to be the center of attention.
URL:https://paysonteencenter.com/event/4-legged-friend-seeking-scratches/2025-09-11/
END:VEVENT
BEGIN:VEVENT
DTSTART;TZID=America/Denver:20250911T163000
DTEND;TZID=America/Denver:20250911T170000
DTSTAMP:20260422T015242
CREATED:20250829T205423Z
LAST-MODIFIED:20250829T205423Z
UID:10000616-1757608200-1757610000@paysonteencenter.com
SUMMARY:It's all about $$$
DESCRIPTION:Teens can learn a thing or two regarding money. How to waste it\, save it\, work it\, enjoy it.
URL:https://paysonteencenter.com/event/its-all-about/2025-09-11/
END:VEVENT
BEGIN:VEVENT
DTSTART;TZID=America/Denver:20250911T150000
DTEND;TZID=America/Denver:20250911T190000
DTSTAMP:20260422T015242
CREATED:20250829T234147Z
LAST-MODIFIED:20250829T234224Z
UID:10000638-1757602800-1757617200@paysonteencenter.com
SUMMARY:Open to Teens
DESCRIPTION:
URL:https://paysonteencenter.com/event/open-to-teens/2025-09-11/
END:VEVENT
BEGIN:VEVENT
DTSTART;TZID=America/Denver:20250910T150000
DTEND;TZID=America/Denver:20250910T180000
DTSTAMP:20260422T015242
CREATED:20250829T233817Z
LAST-MODIFIED:20250829T233817Z
UID:10000623-1757516400-1757527200@paysonteencenter.com
SUMMARY:Teen Center Open to Teens 3:00 to 6:00 pm
DESCRIPTION:We are open for teens to sing\, game\, chill\, play instruments\, grab a snack or two\, use wi-fi\, knock out some homework.
URL:https://paysonteencenter.com/event/teen-center-open-to-teens-300-to-600-pm/2025-09-10/
END:VEVENT
BEGIN:VEVENT
DTSTART;TZID=America/Denver:20250906T140000
DTEND;TZID=America/Denver:20250906T190000
DTSTAMP:20260422T015242
CREATED:20250829T235646Z
LAST-MODIFIED:20250829T235646Z
UID:10000664-1757167200-1757185200@paysonteencenter.com
SUMMARY:Open to Teens
DESCRIPTION:
URL:https://paysonteencenter.com/event/open-to-teens-3/2025-09-06/
END:VEVENT
BEGIN:VEVENT
DTSTART;TZID=America/Denver:20250905T150000
DTEND;TZID=America/Denver:20250905T190000
DTSTAMP:20260422T015242
CREATED:20250829T234147Z
LAST-MODIFIED:20250829T234224Z
UID:10000637-1757084400-1757098800@paysonteencenter.com
SUMMARY:Open to Teens
DESCRIPTION:
URL:https://paysonteencenter.com/event/open-to-teens/2025-09-05/
END:VEVENT
BEGIN:VEVENT
DTSTART;TZID=America/Denver:20250904T163000
DTEND;TZID=America/Denver:20250904T170000
DTSTAMP:20260422T015243
CREATED:20250829T205803Z
LAST-MODIFIED:20250829T225950Z
UID:10000619-1757003400-1757005200@paysonteencenter.com
SUMMARY:4-Legged Friend seeking scratches
DESCRIPTION:We have Canine Companions coming in here pretty often. This is an ideal opportunity to meet a new friend with fur and who loves to be the center of attention.
URL:https://paysonteencenter.com/event/4-legged-friend-seeking-scratches/2025-09-04/
END:VEVENT
BEGIN:VEVENT
DTSTART;TZID=America/Denver:20250904T150000
DTEND;TZID=America/Denver:20250904T190000
DTSTAMP:20260422T015243
CREATED:20250829T234147Z
LAST-MODIFIED:20250829T234224Z
UID:10000636-1756998000-1757012400@paysonteencenter.com
SUMMARY:Open to Teens
DESCRIPTION:
URL:https://paysonteencenter.com/event/open-to-teens/2025-09-04/
END:VEVENT
BEGIN:VEVENT
DTSTART;TZID=America/Denver:20250903T150000
DTEND;TZID=America/Denver:20250903T180000
DTSTAMP:20260422T015243
CREATED:20250829T233817Z
LAST-MODIFIED:20250829T233817Z
UID:10000622-1756911600-1756922400@paysonteencenter.com
SUMMARY:Teen Center Open to Teens 3:00 to 6:00 pm
DESCRIPTION:We are open for teens to sing\, game\, chill\, play instruments\, grab a snack or two\, use wi-fi\, knock out some homework.
URL:https://paysonteencenter.com/event/teen-center-open-to-teens-300-to-600-pm/2025-09-03/
END:VEVENT
BEGIN:VEVENT
DTSTART;VALUE=DATE:20250830
DTEND;VALUE=DATE:20250831
DTSTAMP:20260422T015243
CREATED:20250829T204217Z
LAST-MODIFIED:20250829T204249Z
UID:10000615-1756512000-1756598399@paysonteencenter.com
SUMMARY:Closed in Observance of Labor Day
DESCRIPTION:The Teen Center will be Closed this day. We will re-open September 3rd 2025. Call 928.961.5407 if you have questions. Jeremy will be more than happy to speak to you or return your text.
URL:https://paysonteencenter.com/event/closed-in-observance-of-labor-day/
END:VEVENT
BEGIN:VEVENT
DTSTART;TZID=America/Denver:20250829T160000
DTEND;TZID=America/Denver:20250829T180000
DTSTAMP:20260422T015243
CREATED:20250309T002600Z
LAST-MODIFIED:20250309T002600Z
UID:10000013-1756483200-1756490400@paysonteencenter.com
SUMMARY:Monthly Potluck
DESCRIPTION:
URL:https://paysonteencenter.com/event/monthly-potluck/2025-08-29/
END:VEVENT
BEGIN:VEVENT
DTSTART;TZID=America/Denver:20250725T160000
DTEND;TZID=America/Denver:20250725T180000
DTSTAMP:20260422T015243
CREATED:20250309T002600Z
LAST-MODIFIED:20250309T002600Z
UID:10000012-1753459200-1753466400@paysonteencenter.com
SUMMARY:Monthly Potluck
DESCRIPTION:
URL:https://paysonteencenter.com/event/monthly-potluck/2025-07-25/
END:VEVENT
BEGIN:VEVENT
DTSTART;VALUE=DATE:20250704
DTEND;VALUE=DATE:20250706
DTSTAMP:20260422T015243
CREATED:20250613T020813Z
LAST-MODIFIED:20250613T022441Z
UID:10000606-1751587200-1751759999@paysonteencenter.com
SUMMARY:Closed for 4th and 5th of July
DESCRIPTION:The Route 87 Community Teen center will be closed Friday and Saturday July 4th and 5th in observance of Independence Day.
URL:https://paysonteencenter.com/event/closed-for-4th-and-5th-of-july/
END:VEVENT
BEGIN:VEVENT
DTSTART;TZID=America/Denver:20250702T160000
DTEND;TZID=America/Denver:20250702T173000
DTSTAMP:20260422T015243
CREATED:20250614T001805Z
LAST-MODIFIED:20250614T002023Z
UID:10000609-1751472000-1751477400@paysonteencenter.com
SUMMARY:Red white and blue tie dye
DESCRIPTION:Come and get patriotic at the Teen Center.
URL:https://paysonteencenter.com/event/red-white-and-blue-tie-dye/
END:VEVENT
BEGIN:VEVENT
DTSTART;TZID=America/Denver:20250627T160000
DTEND;TZID=America/Denver:20250627T180000
DTSTAMP:20260422T015243
CREATED:20250621T002302Z
LAST-MODIFIED:20250621T002304Z
UID:10000011-1751040000-1751047200@paysonteencenter.com
SUMMARY:Monthly Potluck
DESCRIPTION:Breakfast is this month’s theme.
URL:https://paysonteencenter.com/event/monthly-potluck-2/
END:VEVENT
BEGIN:VEVENT
DTSTART;TZID=America/Denver:20250627T150000
DTEND;TZID=America/Denver:20250627T170000
DTSTAMP:20260422T015243
CREATED:20250621T004603Z
LAST-MODIFIED:20250621T004826Z
UID:10000614-1751036400-1751043600@paysonteencenter.com
SUMMARY:Projects with Pam
DESCRIPTION:Pamela brings in all kinds of cool and creative ideas to life. Creativity is not a requirement to participate and there are no fees for supplies. UV Resin jewelry\, Duct tape wallets\, and soooooo much more.
URL:https://paysonteencenter.com/event/projects-with-pam-9/
END:VEVENT
BEGIN:VEVENT
DTSTART;TZID=America/Denver:20250627T150000
DTEND;TZID=America/Denver:20250627T160000
DTSTAMP:20260422T015243
CREATED:20250528T233335Z
LAST-MODIFIED:20250528T233335Z
UID:10000603-1751036400-1751040000@paysonteencenter.com
SUMMARY:Social Media Risks
DESCRIPTION:
URL:https://paysonteencenter.com/event/social-media-risks/
END:VEVENT
BEGIN:VEVENT
DTSTART;TZID=America/Denver:20250625T163000
DTEND;TZID=America/Denver:20250625T173000
DTSTAMP:20260422T015243
CREATED:20250614T003111Z
LAST-MODIFIED:20250614T003232Z
UID:10000610-1750869000-1750872600@paysonteencenter.com
SUMMARY:Blacklight Painting with a pro... YOU
DESCRIPTION:
URL:https://paysonteencenter.com/event/blacklight-painting/
ATTACH;FMTTYPE=image/jpeg:https://paysonteencenter.com/wp-content/uploads/2025/03/qtq80-xaSG78.jpeg
END:VEVENT
BEGIN:VEVENT
DTSTART;TZID=America/Denver:20250618T160000
DTEND;TZID=America/Denver:20250618T173000
DTSTAMP:20260422T015243
CREATED:20250614T001548Z
LAST-MODIFIED:20250614T001548Z
UID:10000608-1750262400-1750267800@paysonteencenter.com
SUMMARY:Tie Dye
DESCRIPTION:We have shirts and dyes. Come bring yourself and friend. All 13-19 yr olds are welcome. If you are afraid of tie dye you can do something else.
URL:https://paysonteencenter.com/event/tie-dye/
END:VEVENT
BEGIN:VEVENT
DTSTART;TZID=America/Denver:20250614T150000
DTEND;TZID=America/Denver:20250614T170000
DTSTAMP:20260422T015243
CREATED:20250613T023125Z
LAST-MODIFIED:20250613T023746Z
UID:10000607-1749913200-1749920400@paysonteencenter.com
SUMMARY:Card Game
DESCRIPTION:Come share your skills or your M&M’s because we are playing some cards!!
URL:https://paysonteencenter.com/event/card-game/
END:VEVENT
BEGIN:VEVENT
DTSTART;TZID=America/Denver:20250613T150000
DTEND;TZID=America/Denver:20250613T170000
DTSTAMP:20260422T015243
CREATED:20250613T014255Z
LAST-MODIFIED:20250613T020637Z
UID:10000605-1749826800-1749834000@paysonteencenter.com
SUMMARY:Projects with Pam
DESCRIPTION:
URL:https://paysonteencenter.com/event/projects-with-pam-8/
END:VEVENT
BEGIN:VEVENT
DTSTART;TZID=America/Denver:20250612T150000
DTEND;TZID=America/Denver:20250612T160000
DTSTAMP:20260422T015243
CREATED:20250528T233158Z
LAST-MODIFIED:20250528T233158Z
UID:10000602-1749740400-1749744000@paysonteencenter.com
SUMMARY:Dangers of Underage Drinking- Hosted by CBI
DESCRIPTION:
URL:https://paysonteencenter.com/event/dangers-of-underage-drinking-hosted-by-cbi/
END:VEVENT
BEGIN:VEVENT
DTSTART;TZID=America/Denver:20250530T160000
DTEND;TZID=America/Denver:20250530T180000
DTSTAMP:20260422T015243
CREATED:20250309T002600Z
LAST-MODIFIED:20250309T002600Z
UID:10000010-1748620800-1748628000@paysonteencenter.com
SUMMARY:Monthly Potluck
DESCRIPTION:
URL:https://paysonteencenter.com/event/monthly-potluck/2025-05-30/
END:VEVENT
BEGIN:VEVENT
DTSTART;TZID=America/Denver:20250530T150000
DTEND;TZID=America/Denver:20250530T170000
DTSTAMP:20260422T015243
CREATED:20250506T173945Z
LAST-MODIFIED:20250506T173945Z
UID:10000517-1748617200-1748624400@paysonteencenter.com
SUMMARY:Projects with Pam
DESCRIPTION:
URL:https://paysonteencenter.com/event/projects-with-pam-7/
END:VEVENT
BEGIN:VEVENT
DTSTART;TZID=America/Denver:20250530T150000
DTEND;TZID=America/Denver:20250530T160000
DTSTAMP:20260422T015243
CREATED:20250528T232619Z
LAST-MODIFIED:20250528T232619Z
UID:10000601-1748617200-1748620800@paysonteencenter.com
SUMMARY:Handling Stress and Learning Positive Coping Skills
DESCRIPTION:
URL:https://paysonteencenter.com/event/handling-stress-and-learning-positive-coping-skills/
END:VEVENT
END:VCALENDAR