BEGIN:VCALENDAR
VERSION:2.0
PRODID:-//Route 87 Teen Community Center - ECPv6.15.20//NONSGML v1.0//EN
CALSCALE:GREGORIAN
METHOD:PUBLISH
X-ORIGINAL-URL:https://paysonteencenter.com
X-WR-CALDESC:Events for Route 87 Teen Community Center
REFRESH-INTERVAL;VALUE=DURATION:PT1H
X-Robots-Tag:noindex
X-PUBLISHED-TTL:PT1H
BEGIN:VTIMEZONE
TZID:America/Denver
BEGIN:DAYLIGHT
TZOFFSETFROM:-0700
TZOFFSETTO:-0600
TZNAME:MDT
DTSTART:20240310T090000
END:DAYLIGHT
BEGIN:STANDARD
TZOFFSETFROM:-0600
TZOFFSETTO:-0700
TZNAME:MST
DTSTART:20241103T080000
END:STANDARD
BEGIN:DAYLIGHT
TZOFFSETFROM:-0700
TZOFFSETTO:-0600
TZNAME:MDT
DTSTART:20250309T090000
END:DAYLIGHT
BEGIN:STANDARD
TZOFFSETFROM:-0600
TZOFFSETTO:-0700
TZNAME:MST
DTSTART:20251102T080000
END:STANDARD
BEGIN:DAYLIGHT
TZOFFSETFROM:-0700
TZOFFSETTO:-0600
TZNAME:MDT
DTSTART:20260308T090000
END:DAYLIGHT
BEGIN:STANDARD
TZOFFSETFROM:-0600
TZOFFSETTO:-0700
TZNAME:MST
DTSTART:20261101T080000
END:STANDARD
END:VTIMEZONE
BEGIN:VEVENT
DTSTART;TZID=America/Denver:20251001T150000
DTEND;TZID=America/Denver:20251001T180000
DTSTAMP:20260421T191703
CREATED:20250829T233817Z
LAST-MODIFIED:20250829T233817Z
UID:10000626-1759330800-1759341600@paysonteencenter.com
SUMMARY:Teen Center Open to Teens 3:00 to 6:00 pm
DESCRIPTION:We are open for teens to sing\, game\, chill\, play instruments\, grab a snack or two\, use wi-fi\, knock out some homework.
URL:https://paysonteencenter.com/event/teen-center-open-to-teens-300-to-600-pm/2025-10-01/
END:VEVENT
BEGIN:VEVENT
DTSTART;TZID=America/Denver:20251002T150000
DTEND;TZID=America/Denver:20251002T190000
DTSTAMP:20260421T191703
CREATED:20250829T234147Z
LAST-MODIFIED:20250829T234224Z
UID:10000644-1759417200-1759431600@paysonteencenter.com
SUMMARY:Open to Teens
DESCRIPTION:
URL:https://paysonteencenter.com/event/open-to-teens/2025-10-02/
END:VEVENT
BEGIN:VEVENT
DTSTART;TZID=America/Denver:20251003T150000
DTEND;TZID=America/Denver:20251003T190000
DTSTAMP:20260421T191703
CREATED:20250829T234147Z
LAST-MODIFIED:20250829T234224Z
UID:10000645-1759503600-1759518000@paysonteencenter.com
SUMMARY:Open to Teens
DESCRIPTION:
URL:https://paysonteencenter.com/event/open-to-teens/2025-10-03/
END:VEVENT
BEGIN:VEVENT
DTSTART;TZID=America/Denver:20251004T140000
DTEND;TZID=America/Denver:20251004T190000
DTSTAMP:20260421T191703
CREATED:20250829T235646Z
LAST-MODIFIED:20250829T235646Z
UID:10000668-1759586400-1759604400@paysonteencenter.com
SUMMARY:Open to Teens
DESCRIPTION:
URL:https://paysonteencenter.com/event/open-to-teens-3/2025-10-04/
END:VEVENT
BEGIN:VEVENT
DTSTART;TZID=America/Denver:20251008T150000
DTEND;TZID=America/Denver:20251008T180000
DTSTAMP:20260421T191703
CREATED:20250829T233817Z
LAST-MODIFIED:20250829T233817Z
UID:10000627-1759935600-1759946400@paysonteencenter.com
SUMMARY:Teen Center Open to Teens 3:00 to 6:00 pm
DESCRIPTION:We are open for teens to sing\, game\, chill\, play instruments\, grab a snack or two\, use wi-fi\, knock out some homework.
URL:https://paysonteencenter.com/event/teen-center-open-to-teens-300-to-600-pm/2025-10-08/
END:VEVENT
BEGIN:VEVENT
DTSTART;TZID=America/Denver:20251009T150000
DTEND;TZID=America/Denver:20251009T190000
DTSTAMP:20260421T191703
CREATED:20250829T234147Z
LAST-MODIFIED:20250829T234224Z
UID:10000646-1760022000-1760036400@paysonteencenter.com
SUMMARY:Open to Teens
DESCRIPTION:
URL:https://paysonteencenter.com/event/open-to-teens/2025-10-09/
END:VEVENT
BEGIN:VEVENT
DTSTART;TZID=America/Denver:20251010T150000
DTEND;TZID=America/Denver:20251010T190000
DTSTAMP:20260421T191703
CREATED:20250829T234147Z
LAST-MODIFIED:20250829T234224Z
UID:10000647-1760108400-1760122800@paysonteencenter.com
SUMMARY:Open to Teens
DESCRIPTION:
URL:https://paysonteencenter.com/event/open-to-teens/2025-10-10/
END:VEVENT
BEGIN:VEVENT
DTSTART;TZID=America/Denver:20251011T140000
DTEND;TZID=America/Denver:20251011T190000
DTSTAMP:20260421T191703
CREATED:20250829T235646Z
LAST-MODIFIED:20250829T235646Z
UID:10000669-1760191200-1760209200@paysonteencenter.com
SUMMARY:Open to Teens
DESCRIPTION:
URL:https://paysonteencenter.com/event/open-to-teens-3/2025-10-11/
END:VEVENT
BEGIN:VEVENT
DTSTART;TZID=America/Denver:20251015T150000
DTEND;TZID=America/Denver:20251015T180000
DTSTAMP:20260421T191703
CREATED:20250829T233817Z
LAST-MODIFIED:20250829T233817Z
UID:10000628-1760540400-1760551200@paysonteencenter.com
SUMMARY:Teen Center Open to Teens 3:00 to 6:00 pm
DESCRIPTION:We are open for teens to sing\, game\, chill\, play instruments\, grab a snack or two\, use wi-fi\, knock out some homework.
URL:https://paysonteencenter.com/event/teen-center-open-to-teens-300-to-600-pm/2025-10-15/
END:VEVENT
BEGIN:VEVENT
DTSTART;TZID=America/Denver:20251016T150000
DTEND;TZID=America/Denver:20251016T190000
DTSTAMP:20260421T191703
CREATED:20250829T234147Z
LAST-MODIFIED:20250829T234224Z
UID:10000648-1760626800-1760641200@paysonteencenter.com
SUMMARY:Open to Teens
DESCRIPTION:
URL:https://paysonteencenter.com/event/open-to-teens/2025-10-16/
END:VEVENT
BEGIN:VEVENT
DTSTART;TZID=America/Denver:20251016T160000
DTEND;TZID=America/Denver:20251016T180000
DTSTAMP:20260421T191703
CREATED:20251011T222923Z
LAST-MODIFIED:20251011T222923Z
UID:10000682-1760630400-1760637600@paysonteencenter.com
SUMMARY:Lanterns on the Lake- Supporting Domestic Violence Awareness
DESCRIPTION:
URL:https://paysonteencenter.com/event/lanterns-on-the-lake-supporting-domestic-violence-awareness/
END:VEVENT
BEGIN:VEVENT
DTSTART;TZID=America/Denver:20251017T150000
DTEND;TZID=America/Denver:20251017T170000
DTSTAMP:20260421T191703
CREATED:20251011T231812Z
LAST-MODIFIED:20251011T231812Z
UID:10000686-1760713200-1760720400@paysonteencenter.com
SUMMARY:Projects from Pam and the Celestial Lights
DESCRIPTION:
URL:https://paysonteencenter.com/event/projects-from-pam-and-the-celestial-lights/
END:VEVENT
BEGIN:VEVENT
DTSTART;TZID=America/Denver:20251017T150000
DTEND;TZID=America/Denver:20251017T190000
DTSTAMP:20260421T191703
CREATED:20250829T234147Z
LAST-MODIFIED:20250829T234224Z
UID:10000649-1760713200-1760727600@paysonteencenter.com
SUMMARY:Open to Teens
DESCRIPTION:
URL:https://paysonteencenter.com/event/open-to-teens/2025-10-17/
END:VEVENT
BEGIN:VEVENT
DTSTART;TZID=America/Denver:20251018T090000
DTEND;TZID=America/Denver:20251018T140000
DTSTAMP:20260421T191703
CREATED:20250909T224246Z
LAST-MODIFIED:20250909T230508Z
UID:10000681-1760778000-1760796000@paysonteencenter.com
SUMMARY:Aerofair- Payson Airport
DESCRIPTION:We aim to be set up at the awesome Aerofair from 9am to 2 pm.
URL:https://paysonteencenter.com/event/aerofair-payson-airport/
END:VEVENT
BEGIN:VEVENT
DTSTART;TZID=America/Denver:20251018T140000
DTEND;TZID=America/Denver:20251018T190000
DTSTAMP:20260421T191703
CREATED:20250829T235646Z
LAST-MODIFIED:20250829T235646Z
UID:10000670-1760796000-1760814000@paysonteencenter.com
SUMMARY:Open to Teens
DESCRIPTION:
URL:https://paysonteencenter.com/event/open-to-teens-3/2025-10-18/
END:VEVENT
BEGIN:VEVENT
DTSTART;TZID=America/Denver:20251022T150000
DTEND;TZID=America/Denver:20251022T180000
DTSTAMP:20260421T191703
CREATED:20250829T233817Z
LAST-MODIFIED:20250829T233817Z
UID:10000629-1761145200-1761156000@paysonteencenter.com
SUMMARY:Teen Center Open to Teens 3:00 to 6:00 pm
DESCRIPTION:We are open for teens to sing\, game\, chill\, play instruments\, grab a snack or two\, use wi-fi\, knock out some homework.
URL:https://paysonteencenter.com/event/teen-center-open-to-teens-300-to-600-pm/2025-10-22/
END:VEVENT
BEGIN:VEVENT
DTSTART;TZID=America/Denver:20251023T150000
DTEND;TZID=America/Denver:20251023T190000
DTSTAMP:20260421T191703
CREATED:20250829T234147Z
LAST-MODIFIED:20250829T234224Z
UID:10000650-1761231600-1761246000@paysonteencenter.com
SUMMARY:Open to Teens
DESCRIPTION:
URL:https://paysonteencenter.com/event/open-to-teens/2025-10-23/
END:VEVENT
BEGIN:VEVENT
DTSTART;TZID=America/Denver:20251024T150000
DTEND;TZID=America/Denver:20251024T190000
DTSTAMP:20260421T191703
CREATED:20250829T234147Z
LAST-MODIFIED:20250829T234224Z
UID:10000651-1761318000-1761332400@paysonteencenter.com
SUMMARY:Open to Teens
DESCRIPTION:
URL:https://paysonteencenter.com/event/open-to-teens/2025-10-24/
END:VEVENT
BEGIN:VEVENT
DTSTART;TZID=America/Denver:20251025T140000
DTEND;TZID=America/Denver:20251025T190000
DTSTAMP:20260421T191703
CREATED:20250829T235646Z
LAST-MODIFIED:20250829T235646Z
UID:10000671-1761400800-1761418800@paysonteencenter.com
SUMMARY:Open to Teens
DESCRIPTION:
URL:https://paysonteencenter.com/event/open-to-teens-3/2025-10-25/
END:VEVENT
BEGIN:VEVENT
DTSTART;TZID=America/Denver:20251025T140000
DTEND;TZID=America/Denver:20251025T213000
DTSTAMP:20260421T191703
CREATED:20251011T223726Z
LAST-MODIFIED:20251011T223726Z
UID:10000683-1761400800-1761427800@paysonteencenter.com
SUMMARY:@ Trunk or Treat in Green Valley Park- Teen Center Closed
DESCRIPTION:
URL:https://paysonteencenter.com/event/trunk-or-treat-in-green-valley-park-teen-center-closed/
END:VEVENT
BEGIN:VEVENT
DTSTART;TZID=America/Denver:20251029T150000
DTEND;TZID=America/Denver:20251029T180000
DTSTAMP:20260421T191703
CREATED:20250829T233817Z
LAST-MODIFIED:20250829T233817Z
UID:10000630-1761750000-1761760800@paysonteencenter.com
SUMMARY:Teen Center Open to Teens 3:00 to 6:00 pm
DESCRIPTION:We are open for teens to sing\, game\, chill\, play instruments\, grab a snack or two\, use wi-fi\, knock out some homework.
URL:https://paysonteencenter.com/event/teen-center-open-to-teens-300-to-600-pm/2025-10-29/
END:VEVENT
BEGIN:VEVENT
DTSTART;TZID=America/Denver:20251030T150000
DTEND;TZID=America/Denver:20251030T190000
DTSTAMP:20260421T191703
CREATED:20250829T234147Z
LAST-MODIFIED:20250829T234224Z
UID:10000652-1761836400-1761850800@paysonteencenter.com
SUMMARY:Open to Teens
DESCRIPTION:
URL:https://paysonteencenter.com/event/open-to-teens/2025-10-30/
END:VEVENT
BEGIN:VEVENT
DTSTART;TZID=America/Denver:20251031T150000
DTEND;TZID=America/Denver:20251031T190000
DTSTAMP:20260421T191703
CREATED:20250829T234147Z
LAST-MODIFIED:20250829T234224Z
UID:10000653-1761922800-1761937200@paysonteencenter.com
SUMMARY:Open to Teens
DESCRIPTION:
URL:https://paysonteencenter.com/event/open-to-teens/2025-10-31/
END:VEVENT
BEGIN:VEVENT
DTSTART;TZID=America/Denver:20251031T150000
DTEND;TZID=America/Denver:20251031T190000
DTSTAMP:20260421T191703
CREATED:20251011T223913Z
LAST-MODIFIED:20251011T230754Z
UID:10000684-1761922800-1761937200@paysonteencenter.com
SUMMARY:Teen Center Closed all day - no potluck
DESCRIPTION:
URL:https://paysonteencenter.com/event/teen-center-closed-all-day-no-potluck/
END:VEVENT
BEGIN:VEVENT
DTSTART;TZID=America/Denver:20251031T160000
DTEND;TZID=America/Denver:20251031T180000
DTSTAMP:20260421T191703
CREATED:20250309T002600Z
LAST-MODIFIED:20250309T002600Z
UID:10000015-1761926400-1761933600@paysonteencenter.com
SUMMARY:Monthly Potluck
DESCRIPTION:
URL:https://paysonteencenter.com/event/monthly-potluck/2025-10-31/
END:VEVENT
END:VCALENDAR